BEGIN:VCALENDAR
VERSION:2.0
PRODID:-//FSSTA Fédération Suisse des Sociétés Théâtrales d&#039;Amateurs - ECPv6.15.20//NONSGML v1.0//EN
CALSCALE:GREGORIAN
METHOD:PUBLISH
X-ORIGINAL-URL:https://fssta.ch
X-WR-CALDESC:Évènements pour FSSTA Fédération Suisse des Sociétés Théâtrales d&#039;Amateurs
REFRESH-INTERVAL;VALUE=DURATION:PT1H
X-Robots-Tag:noindex
X-PUBLISHED-TTL:PT1H
BEGIN:VTIMEZONE
TZID:Europe/Zurich
BEGIN:DAYLIGHT
TZOFFSETFROM:+0100
TZOFFSETTO:+0200
TZNAME:CEST
DTSTART:20240331T010000
END:DAYLIGHT
BEGIN:STANDARD
TZOFFSETFROM:+0200
TZOFFSETTO:+0100
TZNAME:CET
DTSTART:20241027T010000
END:STANDARD
BEGIN:DAYLIGHT
TZOFFSETFROM:+0100
TZOFFSETTO:+0200
TZNAME:CEST
DTSTART:20250330T010000
END:DAYLIGHT
BEGIN:STANDARD
TZOFFSETFROM:+0200
TZOFFSETTO:+0100
TZNAME:CET
DTSTART:20251026T010000
END:STANDARD
BEGIN:DAYLIGHT
TZOFFSETFROM:+0100
TZOFFSETTO:+0200
TZNAME:CEST
DTSTART:20260329T010000
END:DAYLIGHT
BEGIN:STANDARD
TZOFFSETFROM:+0200
TZOFFSETTO:+0100
TZNAME:CET
DTSTART:20261025T010000
END:STANDARD
END:VTIMEZONE
BEGIN:VEVENT
DTSTART;TZID=Europe/Zurich:20251115T200000
DTEND;TZID=Europe/Zurich:20251115T220000
DTSTAMP:20260422T064642
CREATED:20250203T120703Z
LAST-MODIFIED:20251221T074629Z
UID:10004945-1763236800-1763244000@fssta.ch
SUMMARY:La Poule aux Œufs d’Or
DESCRIPTION:Pièce de Jean Galabru\, La Poule aux Oeufs d’Or\, nous plonge dans l’univers de la bourgeoisie déchue avec humour et divertissement. Mise en scène par Christophe Nançoz pour La Claque\, cette comédie ne manquera pas de frapper les esprits.
URL:https://fssta.ch/event/la-poule-aux-oeufs-dor/2025-11-15/
LOCATION:Salle Fleuri de Begnins\, Chem. de Fleuri\, Begnins\, Vaud\, 1268\, Suisse
CATEGORIES:Vaud
ORGANIZER;CN="La Claque (Begnins)":MAILTO:info@laclaquebegnins.ch
END:VEVENT
BEGIN:VEVENT
DTSTART;TZID=Europe/Zurich:20251114T200000
DTEND;TZID=Europe/Zurich:20251114T220000
DTSTAMP:20260422T064642
CREATED:20250203T120703Z
LAST-MODIFIED:20251221T074629Z
UID:10004944-1763150400-1763157600@fssta.ch
SUMMARY:La Poule aux Œufs d’Or
DESCRIPTION:Pièce de Jean Galabru\, La Poule aux Oeufs d’Or\, nous plonge dans l’univers de la bourgeoisie déchue avec humour et divertissement. Mise en scène par Christophe Nançoz pour La Claque\, cette comédie ne manquera pas de frapper les esprits.
URL:https://fssta.ch/event/la-poule-aux-oeufs-dor/2025-11-14/
LOCATION:Salle Fleuri de Begnins\, Chem. de Fleuri\, Begnins\, Vaud\, 1268\, Suisse
CATEGORIES:Vaud
ORGANIZER;CN="La Claque (Begnins)":MAILTO:info@laclaquebegnins.ch
END:VEVENT
BEGIN:VEVENT
DTSTART;TZID=Europe/Zurich:20251109T163000
DTEND;TZID=Europe/Zurich:20251109T183000
DTSTAMP:20260422T064642
CREATED:20250203T120703Z
LAST-MODIFIED:20251221T074629Z
UID:10004943-1762705800-1762713000@fssta.ch
SUMMARY:La Poule aux Œufs d’Or
DESCRIPTION:Pièce de Jean Galabru\, La Poule aux Oeufs d’Or\, nous plonge dans l’univers de la bourgeoisie déchue avec humour et divertissement. Mise en scène par Christophe Nançoz pour La Claque\, cette comédie ne manquera pas de frapper les esprits.
URL:https://fssta.ch/event/la-poule-aux-oeufs-dor/2025-11-09/
LOCATION:Salle Fleuri de Begnins\, Chem. de Fleuri\, Begnins\, Vaud\, 1268\, Suisse
CATEGORIES:Vaud
ORGANIZER;CN="La Claque (Begnins)":MAILTO:info@laclaquebegnins.ch
END:VEVENT
BEGIN:VEVENT
DTSTART;TZID=Europe/Zurich:20251108T080000
DTEND;TZID=Europe/Zurich:20251108T170000
DTSTAMP:20260422T064642
CREATED:20250203T120703Z
LAST-MODIFIED:20251221T074629Z
UID:10004942-1762588800-1762621200@fssta.ch
SUMMARY:La Poule aux Œufs d’Or
DESCRIPTION:Pièce de Jean Galabru\, La Poule aux Oeufs d’Or\, nous plonge dans l’univers de la bourgeoisie déchue avec humour et divertissement. Mise en scène par Christophe Nançoz pour La Claque\, cette comédie ne manquera pas de frapper les esprits.
URL:https://fssta.ch/event/la-poule-aux-oeufs-dor/2025-11-08/
LOCATION:Salle Fleuri de Begnins\, Chem. de Fleuri\, Begnins\, Vaud\, 1268\, Suisse
CATEGORIES:Vaud
ORGANIZER;CN="La Claque (Begnins)":MAILTO:info@laclaquebegnins.ch
END:VEVENT
BEGIN:VEVENT
DTSTART;TZID=Europe/Zurich:20251107T200000
DTEND;TZID=Europe/Zurich:20251107T220000
DTSTAMP:20260422T064642
CREATED:20250203T120703Z
LAST-MODIFIED:20251221T074629Z
UID:10004941-1762545600-1762552800@fssta.ch
SUMMARY:La Poule aux Œufs d’Or
DESCRIPTION:Pièce de Jean Galabru\, La Poule aux Oeufs d’Or\, nous plonge dans l’univers de la bourgeoisie déchue avec humour et divertissement. Mise en scène par Christophe Nançoz pour La Claque\, cette comédie ne manquera pas de frapper les esprits.
URL:https://fssta.ch/event/la-poule-aux-oeufs-dor/2025-11-07/
LOCATION:Salle Fleuri de Begnins\, Chem. de Fleuri\, Begnins\, Vaud\, 1268\, Suisse
CATEGORIES:Vaud
ORGANIZER;CN="La Claque (Begnins)":MAILTO:info@laclaquebegnins.ch
END:VEVENT
BEGIN:VEVENT
DTSTART;TZID=Europe/Zurich:20251102T163000
DTEND;TZID=Europe/Zurich:20251102T183000
DTSTAMP:20260422T064642
CREATED:20250203T120703Z
LAST-MODIFIED:20251221T074629Z
UID:10004940-1762101000-1762108200@fssta.ch
SUMMARY:La Poule aux Œufs d’Or
DESCRIPTION:Pièce de Jean Galabru\, La Poule aux Oeufs d’Or\, nous plonge dans l’univers de la bourgeoisie déchue avec humour et divertissement. Mise en scène par Christophe Nançoz pour La Claque\, cette comédie ne manquera pas de frapper les esprits.
URL:https://fssta.ch/event/la-poule-aux-oeufs-dor/2025-11-02/
LOCATION:Salle Fleuri de Begnins\, Chem. de Fleuri\, Begnins\, Vaud\, 1268\, Suisse
CATEGORIES:Vaud
ORGANIZER;CN="La Claque (Begnins)":MAILTO:info@laclaquebegnins.ch
END:VEVENT
BEGIN:VEVENT
DTSTART;TZID=Europe/Zurich:20251101T200000
DTEND;TZID=Europe/Zurich:20251101T220000
DTSTAMP:20260422T064642
CREATED:20250203T120703Z
LAST-MODIFIED:20251221T074629Z
UID:10004939-1762027200-1762034400@fssta.ch
SUMMARY:La Poule aux Œufs d’Or
DESCRIPTION:Pièce de Jean Galabru\, La Poule aux Oeufs d’Or\, nous plonge dans l’univers de la bourgeoisie déchue avec humour et divertissement. Mise en scène par Christophe Nançoz pour La Claque\, cette comédie ne manquera pas de frapper les esprits.
URL:https://fssta.ch/event/la-poule-aux-oeufs-dor/2025-11-01/
LOCATION:Salle Fleuri de Begnins\, Chem. de Fleuri\, Begnins\, Vaud\, 1268\, Suisse
CATEGORIES:Vaud
ORGANIZER;CN="La Claque (Begnins)":MAILTO:info@laclaquebegnins.ch
END:VEVENT
BEGIN:VEVENT
DTSTART;TZID=Europe/Zurich:20251031T200000
DTEND;TZID=Europe/Zurich:20251031T220000
DTSTAMP:20260422T064642
CREATED:20250203T120703Z
LAST-MODIFIED:20251221T074629Z
UID:10004938-1761940800-1761948000@fssta.ch
SUMMARY:La Poule aux Œufs d’Or
DESCRIPTION:Pièce de Jean Galabru\, La Poule aux Oeufs d’Or\, nous plonge dans l’univers de la bourgeoisie déchue avec humour et divertissement. Mise en scène par Christophe Nançoz pour La Claque\, cette comédie ne manquera pas de frapper les esprits.
URL:https://fssta.ch/event/la-poule-aux-oeufs-dor/2025-10-31/
LOCATION:Salle Fleuri de Begnins\, Chem. de Fleuri\, Begnins\, Vaud\, 1268\, Suisse
CATEGORIES:Vaud
ORGANIZER;CN="La Claque (Begnins)":MAILTO:info@laclaquebegnins.ch
END:VEVENT
END:VCALENDAR