BEGIN:VCALENDAR
VERSION:2.0
PRODID:-//FSSTA Fédération Suisse des Sociétés Théâtrales d&#039;Amateurs - ECPv6.15.20//NONSGML v1.0//EN
CALSCALE:GREGORIAN
METHOD:PUBLISH
X-ORIGINAL-URL:https://fssta.ch
X-WR-CALDESC:Évènements pour FSSTA Fédération Suisse des Sociétés Théâtrales d&#039;Amateurs
REFRESH-INTERVAL;VALUE=DURATION:PT1H
X-Robots-Tag:noindex
X-PUBLISHED-TTL:PT1H
BEGIN:VTIMEZONE
TZID:Europe/Zurich
BEGIN:DAYLIGHT
TZOFFSETFROM:+0100
TZOFFSETTO:+0200
TZNAME:CEST
DTSTART:20240331T010000
END:DAYLIGHT
BEGIN:STANDARD
TZOFFSETFROM:+0200
TZOFFSETTO:+0100
TZNAME:CET
DTSTART:20241027T010000
END:STANDARD
BEGIN:DAYLIGHT
TZOFFSETFROM:+0100
TZOFFSETTO:+0200
TZNAME:CEST
DTSTART:20250330T010000
END:DAYLIGHT
BEGIN:STANDARD
TZOFFSETFROM:+0200
TZOFFSETTO:+0100
TZNAME:CET
DTSTART:20251026T010000
END:STANDARD
BEGIN:DAYLIGHT
TZOFFSETFROM:+0100
TZOFFSETTO:+0200
TZNAME:CEST
DTSTART:20260329T010000
END:DAYLIGHT
BEGIN:STANDARD
TZOFFSETFROM:+0200
TZOFFSETTO:+0100
TZNAME:CET
DTSTART:20261025T010000
END:STANDARD
BEGIN:DAYLIGHT
TZOFFSETFROM:+0100
TZOFFSETTO:+0200
TZNAME:CEST
DTSTART:20270328T010000
END:DAYLIGHT
BEGIN:STANDARD
TZOFFSETFROM:+0200
TZOFFSETTO:+0100
TZNAME:CET
DTSTART:20271031T010000
END:STANDARD
END:VTIMEZONE
BEGIN:VEVENT
DTSTART;TZID=Europe/Zurich:20260118T170000
DTEND;TZID=Europe/Zurich:20260118T183000
DTSTAMP:20260422T083527
CREATED:20251119T105730Z
LAST-MODIFIED:20251119T105748Z
UID:10005567-1768755600-1768761000@fssta.ch
SUMMARY:« Le retour de Richard 3 par le train de 9h24 » de Gilles Dyrek et Eric Bu
DESCRIPTION:Un (psycho)-drame singulier où la frontière entre réalité et fiction s’efface avec délectation ! \nCondamné par la médecine\, Pierre-Henri a une idée un peu folle : revivre une dernière fois les grands moments de sa vie… à sa façon ! Il réunit sa « famille » pour une semaine pas tout à fait ordinaire\, pleine d’émotions\, de rires et de surprises. Mais quand les souvenirs s’invitent à table et que les rôles se mélangent\, la frontière entre réalité et fiction devient délicieusement floue… Car parfois\, pour faire la paix avec son passé\, il faut oser rejouer la scène ! \nUne comédie humaine aussi drôle que bouleversante\, où chacun finit par se retrouver face à ses propres fantômes.  \nPeut-on rejouer sa vie pour mieux la comprendre ?
URL:https://fssta.ch/event/le-retour-de-richard-3-par-le-train-de-9h24-de-gilles-dyrek-et-eric-bu-2/2026-01-18/
LOCATION:Théatre de Colombier\, rue Haute 22\, Colombier\, NE\, 2013\, Suisse
CATEGORIES:Neuchâtel
ORGANIZER;CN="La Nouvelle Colombi%C3%A8re":MAILTO:lanouvellecolombiere@gmail.com
END:VEVENT
BEGIN:VEVENT
DTSTART;TZID=Europe/Zurich:20260117T180000
DTEND;TZID=Europe/Zurich:20260117T193000
DTSTAMP:20260422T083527
CREATED:20251119T105730Z
LAST-MODIFIED:20251119T105748Z
UID:10005566-1768672800-1768678200@fssta.ch
SUMMARY:« Le retour de Richard 3 par le train de 9h24 » de Gilles Dyrek et Eric Bu
DESCRIPTION:Un (psycho)-drame singulier où la frontière entre réalité et fiction s’efface avec délectation ! \nCondamné par la médecine\, Pierre-Henri a une idée un peu folle : revivre une dernière fois les grands moments de sa vie… à sa façon ! Il réunit sa « famille » pour une semaine pas tout à fait ordinaire\, pleine d’émotions\, de rires et de surprises. Mais quand les souvenirs s’invitent à table et que les rôles se mélangent\, la frontière entre réalité et fiction devient délicieusement floue… Car parfois\, pour faire la paix avec son passé\, il faut oser rejouer la scène ! \nUne comédie humaine aussi drôle que bouleversante\, où chacun finit par se retrouver face à ses propres fantômes.  \nPeut-on rejouer sa vie pour mieux la comprendre ?
URL:https://fssta.ch/event/le-retour-de-richard-3-par-le-train-de-9h24-de-gilles-dyrek-et-eric-bu-2/2026-01-17/
LOCATION:Théatre de Colombier\, rue Haute 22\, Colombier\, NE\, 2013\, Suisse
CATEGORIES:Neuchâtel
ORGANIZER;CN="La Nouvelle Colombi%C3%A8re":MAILTO:lanouvellecolombiere@gmail.com
END:VEVENT
BEGIN:VEVENT
DTSTART;TZID=Europe/Zurich:20260116T200000
DTEND;TZID=Europe/Zurich:20260116T213000
DTSTAMP:20260422T083527
CREATED:20251119T105730Z
LAST-MODIFIED:20251119T105748Z
UID:10005565-1768593600-1768599000@fssta.ch
SUMMARY:« Le retour de Richard 3 par le train de 9h24 » de Gilles Dyrek et Eric Bu
DESCRIPTION:Un (psycho)-drame singulier où la frontière entre réalité et fiction s’efface avec délectation ! \nCondamné par la médecine\, Pierre-Henri a une idée un peu folle : revivre une dernière fois les grands moments de sa vie… à sa façon ! Il réunit sa « famille » pour une semaine pas tout à fait ordinaire\, pleine d’émotions\, de rires et de surprises. Mais quand les souvenirs s’invitent à table et que les rôles se mélangent\, la frontière entre réalité et fiction devient délicieusement floue… Car parfois\, pour faire la paix avec son passé\, il faut oser rejouer la scène ! \nUne comédie humaine aussi drôle que bouleversante\, où chacun finit par se retrouver face à ses propres fantômes.  \nPeut-on rejouer sa vie pour mieux la comprendre ?
URL:https://fssta.ch/event/le-retour-de-richard-3-par-le-train-de-9h24-de-gilles-dyrek-et-eric-bu-2/2026-01-16/
LOCATION:Théatre de Colombier\, rue Haute 22\, Colombier\, NE\, 2013\, Suisse
CATEGORIES:Neuchâtel
ORGANIZER;CN="La Nouvelle Colombi%C3%A8re":MAILTO:lanouvellecolombiere@gmail.com
END:VEVENT
BEGIN:VEVENT
DTSTART;TZID=Europe/Zurich:20260115T200000
DTEND;TZID=Europe/Zurich:20260115T213000
DTSTAMP:20260422T083527
CREATED:20251119T105730Z
LAST-MODIFIED:20251119T105748Z
UID:10005564-1768507200-1768512600@fssta.ch
SUMMARY:« Le retour de Richard 3 par le train de 9h24 » de Gilles Dyrek et Eric Bu
DESCRIPTION:Un (psycho)-drame singulier où la frontière entre réalité et fiction s’efface avec délectation ! \nCondamné par la médecine\, Pierre-Henri a une idée un peu folle : revivre une dernière fois les grands moments de sa vie… à sa façon ! Il réunit sa « famille » pour une semaine pas tout à fait ordinaire\, pleine d’émotions\, de rires et de surprises. Mais quand les souvenirs s’invitent à table et que les rôles se mélangent\, la frontière entre réalité et fiction devient délicieusement floue… Car parfois\, pour faire la paix avec son passé\, il faut oser rejouer la scène ! \nUne comédie humaine aussi drôle que bouleversante\, où chacun finit par se retrouver face à ses propres fantômes.  \nPeut-on rejouer sa vie pour mieux la comprendre ?
URL:https://fssta.ch/event/le-retour-de-richard-3-par-le-train-de-9h24-de-gilles-dyrek-et-eric-bu-2/2026-01-15/
LOCATION:Théatre de Colombier\, rue Haute 22\, Colombier\, NE\, 2013\, Suisse
CATEGORIES:Neuchâtel
ORGANIZER;CN="La Nouvelle Colombi%C3%A8re":MAILTO:lanouvellecolombiere@gmail.com
END:VEVENT
BEGIN:VEVENT
DTSTART;TZID=Europe/Zurich:20260111T170000
DTEND;TZID=Europe/Zurich:20260111T183000
DTSTAMP:20260422T083527
CREATED:20251119T105730Z
LAST-MODIFIED:20251119T105748Z
UID:10005563-1768150800-1768156200@fssta.ch
SUMMARY:« Le retour de Richard 3 par le train de 9h24 » de Gilles Dyrek et Eric Bu
DESCRIPTION:Un (psycho)-drame singulier où la frontière entre réalité et fiction s’efface avec délectation ! \nCondamné par la médecine\, Pierre-Henri a une idée un peu folle : revivre une dernière fois les grands moments de sa vie… à sa façon ! Il réunit sa « famille » pour une semaine pas tout à fait ordinaire\, pleine d’émotions\, de rires et de surprises. Mais quand les souvenirs s’invitent à table et que les rôles se mélangent\, la frontière entre réalité et fiction devient délicieusement floue… Car parfois\, pour faire la paix avec son passé\, il faut oser rejouer la scène ! \nUne comédie humaine aussi drôle que bouleversante\, où chacun finit par se retrouver face à ses propres fantômes.  \nPeut-on rejouer sa vie pour mieux la comprendre ?
URL:https://fssta.ch/event/le-retour-de-richard-3-par-le-train-de-9h24-de-gilles-dyrek-et-eric-bu-2/2026-01-11/
LOCATION:Théatre de Colombier\, rue Haute 22\, Colombier\, NE\, 2013\, Suisse
CATEGORIES:Neuchâtel
ORGANIZER;CN="La Nouvelle Colombi%C3%A8re":MAILTO:lanouvellecolombiere@gmail.com
END:VEVENT
BEGIN:VEVENT
DTSTART;TZID=Europe/Zurich:20260110T180000
DTEND;TZID=Europe/Zurich:20260110T193000
DTSTAMP:20260422T083527
CREATED:20251119T105730Z
LAST-MODIFIED:20251119T105748Z
UID:10005562-1768068000-1768073400@fssta.ch
SUMMARY:« Le retour de Richard 3 par le train de 9h24 » de Gilles Dyrek et Eric Bu
DESCRIPTION:Un (psycho)-drame singulier où la frontière entre réalité et fiction s’efface avec délectation ! \nCondamné par la médecine\, Pierre-Henri a une idée un peu folle : revivre une dernière fois les grands moments de sa vie… à sa façon ! Il réunit sa « famille » pour une semaine pas tout à fait ordinaire\, pleine d’émotions\, de rires et de surprises. Mais quand les souvenirs s’invitent à table et que les rôles se mélangent\, la frontière entre réalité et fiction devient délicieusement floue… Car parfois\, pour faire la paix avec son passé\, il faut oser rejouer la scène ! \nUne comédie humaine aussi drôle que bouleversante\, où chacun finit par se retrouver face à ses propres fantômes.  \nPeut-on rejouer sa vie pour mieux la comprendre ?
URL:https://fssta.ch/event/le-retour-de-richard-3-par-le-train-de-9h24-de-gilles-dyrek-et-eric-bu-2/2026-01-10/
LOCATION:Théatre de Colombier\, rue Haute 22\, Colombier\, NE\, 2013\, Suisse
CATEGORIES:Neuchâtel
ORGANIZER;CN="La Nouvelle Colombi%C3%A8re":MAILTO:lanouvellecolombiere@gmail.com
END:VEVENT
BEGIN:VEVENT
DTSTART;TZID=Europe/Zurich:20260109T200000
DTEND;TZID=Europe/Zurich:20260109T213000
DTSTAMP:20260422T083527
CREATED:20251119T105730Z
LAST-MODIFIED:20251119T105748Z
UID:10005561-1767988800-1767994200@fssta.ch
SUMMARY:« Le retour de Richard 3 par le train de 9h24 » de Gilles Dyrek et Eric Bu
DESCRIPTION:Un (psycho)-drame singulier où la frontière entre réalité et fiction s’efface avec délectation ! \nCondamné par la médecine\, Pierre-Henri a une idée un peu folle : revivre une dernière fois les grands moments de sa vie… à sa façon ! Il réunit sa « famille » pour une semaine pas tout à fait ordinaire\, pleine d’émotions\, de rires et de surprises. Mais quand les souvenirs s’invitent à table et que les rôles se mélangent\, la frontière entre réalité et fiction devient délicieusement floue… Car parfois\, pour faire la paix avec son passé\, il faut oser rejouer la scène ! \nUne comédie humaine aussi drôle que bouleversante\, où chacun finit par se retrouver face à ses propres fantômes.  \nPeut-on rejouer sa vie pour mieux la comprendre ?
URL:https://fssta.ch/event/le-retour-de-richard-3-par-le-train-de-9h24-de-gilles-dyrek-et-eric-bu-2/2026-01-09/
LOCATION:Théatre de Colombier\, rue Haute 22\, Colombier\, NE\, 2013\, Suisse
CATEGORIES:Neuchâtel
ORGANIZER;CN="La Nouvelle Colombi%C3%A8re":MAILTO:lanouvellecolombiere@gmail.com
END:VEVENT
BEGIN:VEVENT
DTSTART;TZID=Europe/Zurich:20260108T200000
DTEND;TZID=Europe/Zurich:20260108T213000
DTSTAMP:20260422T083527
CREATED:20251119T105730Z
LAST-MODIFIED:20251119T105748Z
UID:10005560-1767902400-1767907800@fssta.ch
SUMMARY:« Le retour de Richard 3 par le train de 9h24 » de Gilles Dyrek et Eric Bu
DESCRIPTION:Un (psycho)-drame singulier où la frontière entre réalité et fiction s’efface avec délectation ! \nCondamné par la médecine\, Pierre-Henri a une idée un peu folle : revivre une dernière fois les grands moments de sa vie… à sa façon ! Il réunit sa « famille » pour une semaine pas tout à fait ordinaire\, pleine d’émotions\, de rires et de surprises. Mais quand les souvenirs s’invitent à table et que les rôles se mélangent\, la frontière entre réalité et fiction devient délicieusement floue… Car parfois\, pour faire la paix avec son passé\, il faut oser rejouer la scène ! \nUne comédie humaine aussi drôle que bouleversante\, où chacun finit par se retrouver face à ses propres fantômes.  \nPeut-on rejouer sa vie pour mieux la comprendre ?
URL:https://fssta.ch/event/le-retour-de-richard-3-par-le-train-de-9h24-de-gilles-dyrek-et-eric-bu-2/2026-01-08/
LOCATION:Théatre de Colombier\, rue Haute 22\, Colombier\, NE\, 2013\, Suisse
CATEGORIES:Neuchâtel
ORGANIZER;CN="La Nouvelle Colombi%C3%A8re":MAILTO:lanouvellecolombiere@gmail.com
END:VEVENT
BEGIN:VEVENT
DTSTART;TZID=Europe/Zurich:20260104T170000
DTEND;TZID=Europe/Zurich:20260104T183000
DTSTAMP:20260422T083527
CREATED:20251119T105730Z
LAST-MODIFIED:20251119T105748Z
UID:10005559-1767546000-1767551400@fssta.ch
SUMMARY:« Le retour de Richard 3 par le train de 9h24 » de Gilles Dyrek et Eric Bu
DESCRIPTION:Un (psycho)-drame singulier où la frontière entre réalité et fiction s’efface avec délectation ! \nCondamné par la médecine\, Pierre-Henri a une idée un peu folle : revivre une dernière fois les grands moments de sa vie… à sa façon ! Il réunit sa « famille » pour une semaine pas tout à fait ordinaire\, pleine d’émotions\, de rires et de surprises. Mais quand les souvenirs s’invitent à table et que les rôles se mélangent\, la frontière entre réalité et fiction devient délicieusement floue… Car parfois\, pour faire la paix avec son passé\, il faut oser rejouer la scène ! \nUne comédie humaine aussi drôle que bouleversante\, où chacun finit par se retrouver face à ses propres fantômes.  \nPeut-on rejouer sa vie pour mieux la comprendre ?
URL:https://fssta.ch/event/le-retour-de-richard-3-par-le-train-de-9h24-de-gilles-dyrek-et-eric-bu-2/2026-01-04/
LOCATION:Théatre de Colombier\, rue Haute 22\, Colombier\, NE\, 2013\, Suisse
CATEGORIES:Neuchâtel
ORGANIZER;CN="La Nouvelle Colombi%C3%A8re":MAILTO:lanouvellecolombiere@gmail.com
END:VEVENT
BEGIN:VEVENT
DTSTART;TZID=Europe/Zurich:20260103T180000
DTEND;TZID=Europe/Zurich:20260103T193000
DTSTAMP:20260422T083527
CREATED:20251119T105730Z
LAST-MODIFIED:20251119T105748Z
UID:10005558-1767463200-1767468600@fssta.ch
SUMMARY:« Le retour de Richard 3 par le train de 9h24 » de Gilles Dyrek et Eric Bu
DESCRIPTION:Un (psycho)-drame singulier où la frontière entre réalité et fiction s’efface avec délectation ! \nCondamné par la médecine\, Pierre-Henri a une idée un peu folle : revivre une dernière fois les grands moments de sa vie… à sa façon ! Il réunit sa « famille » pour une semaine pas tout à fait ordinaire\, pleine d’émotions\, de rires et de surprises. Mais quand les souvenirs s’invitent à table et que les rôles se mélangent\, la frontière entre réalité et fiction devient délicieusement floue… Car parfois\, pour faire la paix avec son passé\, il faut oser rejouer la scène ! \nUne comédie humaine aussi drôle que bouleversante\, où chacun finit par se retrouver face à ses propres fantômes.  \nPeut-on rejouer sa vie pour mieux la comprendre ?
URL:https://fssta.ch/event/le-retour-de-richard-3-par-le-train-de-9h24-de-gilles-dyrek-et-eric-bu-2/2026-01-03/
LOCATION:Théatre de Colombier\, rue Haute 22\, Colombier\, NE\, 2013\, Suisse
CATEGORIES:Neuchâtel
ORGANIZER;CN="La Nouvelle Colombi%C3%A8re":MAILTO:lanouvellecolombiere@gmail.com
END:VEVENT
BEGIN:VEVENT
DTSTART;TZID=Europe/Zurich:20251231T190000
DTEND;TZID=Europe/Zurich:20251231T203000
DTSTAMP:20260422T083527
CREATED:20251119T105730Z
LAST-MODIFIED:20251119T105748Z
UID:10005557-1767207600-1767213000@fssta.ch
SUMMARY:« Le retour de Richard 3 par le train de 9h24 » de Gilles Dyrek et Eric Bu
DESCRIPTION:Un (psycho)-drame singulier où la frontière entre réalité et fiction s’efface avec délectation ! \nCondamné par la médecine\, Pierre-Henri a une idée un peu folle : revivre une dernière fois les grands moments de sa vie… à sa façon ! Il réunit sa « famille » pour une semaine pas tout à fait ordinaire\, pleine d’émotions\, de rires et de surprises. Mais quand les souvenirs s’invitent à table et que les rôles se mélangent\, la frontière entre réalité et fiction devient délicieusement floue… Car parfois\, pour faire la paix avec son passé\, il faut oser rejouer la scène ! \nUne comédie humaine aussi drôle que bouleversante\, où chacun finit par se retrouver face à ses propres fantômes.  \nPeut-on rejouer sa vie pour mieux la comprendre ?
URL:https://fssta.ch/event/le-retour-de-richard-3-par-le-train-de-9h24-de-gilles-dyrek-et-eric-bu-2/2025-12-31/
LOCATION:Théatre de Colombier\, rue Haute 22\, Colombier\, NE\, 2013\, Suisse
CATEGORIES:Neuchâtel
ORGANIZER;CN="La Nouvelle Colombi%C3%A8re":MAILTO:lanouvellecolombiere@gmail.com
END:VEVENT
BEGIN:VEVENT
DTSTART;TZID=Europe/Zurich:20251228T170000
DTEND;TZID=Europe/Zurich:20251228T183000
DTSTAMP:20260422T083527
CREATED:20251119T105730Z
LAST-MODIFIED:20251119T105748Z
UID:10005556-1766941200-1766946600@fssta.ch
SUMMARY:« Le retour de Richard 3 par le train de 9h24 » de Gilles Dyrek et Eric Bu
DESCRIPTION:Un (psycho)-drame singulier où la frontière entre réalité et fiction s’efface avec délectation ! \nCondamné par la médecine\, Pierre-Henri a une idée un peu folle : revivre une dernière fois les grands moments de sa vie… à sa façon ! Il réunit sa « famille » pour une semaine pas tout à fait ordinaire\, pleine d’émotions\, de rires et de surprises. Mais quand les souvenirs s’invitent à table et que les rôles se mélangent\, la frontière entre réalité et fiction devient délicieusement floue… Car parfois\, pour faire la paix avec son passé\, il faut oser rejouer la scène ! \nUne comédie humaine aussi drôle que bouleversante\, où chacun finit par se retrouver face à ses propres fantômes.  \nPeut-on rejouer sa vie pour mieux la comprendre ?
URL:https://fssta.ch/event/le-retour-de-richard-3-par-le-train-de-9h24-de-gilles-dyrek-et-eric-bu-2/2025-12-28/
LOCATION:Théatre de Colombier\, rue Haute 22\, Colombier\, NE\, 2013\, Suisse
CATEGORIES:Neuchâtel
ORGANIZER;CN="La Nouvelle Colombi%C3%A8re":MAILTO:lanouvellecolombiere@gmail.com
END:VEVENT
BEGIN:VEVENT
DTSTART;TZID=Europe/Zurich:20251227T180000
DTEND;TZID=Europe/Zurich:20251227T193000
DTSTAMP:20260422T083527
CREATED:20251119T105730Z
LAST-MODIFIED:20251119T105748Z
UID:10005555-1766858400-1766863800@fssta.ch
SUMMARY:« Le retour de Richard 3 par le train de 9h24 » de Gilles Dyrek et Eric Bu
DESCRIPTION:Un (psycho)-drame singulier où la frontière entre réalité et fiction s’efface avec délectation ! \nCondamné par la médecine\, Pierre-Henri a une idée un peu folle : revivre une dernière fois les grands moments de sa vie… à sa façon ! Il réunit sa « famille » pour une semaine pas tout à fait ordinaire\, pleine d’émotions\, de rires et de surprises. Mais quand les souvenirs s’invitent à table et que les rôles se mélangent\, la frontière entre réalité et fiction devient délicieusement floue… Car parfois\, pour faire la paix avec son passé\, il faut oser rejouer la scène ! \nUne comédie humaine aussi drôle que bouleversante\, où chacun finit par se retrouver face à ses propres fantômes.  \nPeut-on rejouer sa vie pour mieux la comprendre ?
URL:https://fssta.ch/event/le-retour-de-richard-3-par-le-train-de-9h24-de-gilles-dyrek-et-eric-bu-2/2025-12-27/
LOCATION:Théatre de Colombier\, rue Haute 22\, Colombier\, NE\, 2013\, Suisse
CATEGORIES:Neuchâtel
ORGANIZER;CN="La Nouvelle Colombi%C3%A8re":MAILTO:lanouvellecolombiere@gmail.com
END:VEVENT
END:VCALENDAR