BEGIN:VCALENDAR
VERSION:2.0
PRODID:-//FSSTA Fédération Suisse des Sociétés Théâtrales d&#039;Amateurs - ECPv6.15.20//NONSGML v1.0//EN
CALSCALE:GREGORIAN
METHOD:PUBLISH
X-WR-CALNAME:FSSTA Fédération Suisse des Sociétés Théâtrales d&#039;Amateurs
X-ORIGINAL-URL:https://fssta.ch
X-WR-CALDESC:Évènements pour FSSTA Fédération Suisse des Sociétés Théâtrales d&#039;Amateurs
REFRESH-INTERVAL;VALUE=DURATION:PT1H
X-Robots-Tag:noindex
X-PUBLISHED-TTL:PT1H
BEGIN:VTIMEZONE
TZID:Europe/Zurich
BEGIN:DAYLIGHT
TZOFFSETFROM:+0100
TZOFFSETTO:+0200
TZNAME:CEST
DTSTART:20250330T010000
END:DAYLIGHT
BEGIN:STANDARD
TZOFFSETFROM:+0200
TZOFFSETTO:+0100
TZNAME:CET
DTSTART:20251026T010000
END:STANDARD
BEGIN:DAYLIGHT
TZOFFSETFROM:+0100
TZOFFSETTO:+0200
TZNAME:CEST
DTSTART:20260329T010000
END:DAYLIGHT
BEGIN:STANDARD
TZOFFSETFROM:+0200
TZOFFSETTO:+0100
TZNAME:CET
DTSTART:20261025T010000
END:STANDARD
BEGIN:DAYLIGHT
TZOFFSETFROM:+0100
TZOFFSETTO:+0200
TZNAME:CEST
DTSTART:20270328T010000
END:DAYLIGHT
BEGIN:STANDARD
TZOFFSETFROM:+0200
TZOFFSETTO:+0100
TZNAME:CET
DTSTART:20271031T010000
END:STANDARD
END:VTIMEZONE
BEGIN:VEVENT
DTSTART;TZID=Europe/Zurich:20260412T150000
DTEND;TZID=Europe/Zurich:20260412T173000
DTSTAMP:20260425T191052
CREATED:20260129T161300Z
LAST-MODIFIED:20260305T145504Z
UID:10005744-1776006000-1776015000@fssta.ch
SUMMARY:La douche Ecossaise
DESCRIPTION:A l’issue d’un atelier théâtre pour enfants\, la Douche Ecossaise vous sera présenté
URL:https://fssta.ch/event/la-douche-ecossaise/2026-04-12/
LOCATION:Salle Polyvalente\, Semsales\, Route de la Broye 6\, Semsales\, 1623
CATEGORIES:Fribourg
ATTACH;FMTTYPE=image/png:https://fssta.ch/wp-content/uploads/2026/01/Affiche-Enfant-26-OK-1.png
ORGANIZER;CN="Groupe Th%C3%A9%C3%A2tral Le Trac":MAILTO:rsonney@sunrise.ch
END:VEVENT
BEGIN:VEVENT
DTSTART;TZID=Europe/Zurich:20260411T200000
DTEND;TZID=Europe/Zurich:20260411T223000
DTSTAMP:20260425T191052
CREATED:20260129T161300Z
LAST-MODIFIED:20260305T145504Z
UID:10005743-1775937600-1775946600@fssta.ch
SUMMARY:La douche Ecossaise
DESCRIPTION:A l’issue d’un atelier théâtre pour enfants\, la Douche Ecossaise vous sera présenté
URL:https://fssta.ch/event/la-douche-ecossaise/2026-04-11/
LOCATION:Salle Polyvalente\, Semsales\, Route de la Broye 6\, Semsales\, 1623
CATEGORIES:Fribourg
ATTACH;FMTTYPE=image/png:https://fssta.ch/wp-content/uploads/2026/01/Affiche-Enfant-26-OK-1.png
ORGANIZER;CN="Groupe Th%C3%A9%C3%A2tral Le Trac":MAILTO:rsonney@sunrise.ch
END:VEVENT
BEGIN:VEVENT
DTSTART;TZID=Europe/Zurich:20260410T200000
DTEND;TZID=Europe/Zurich:20260410T223000
DTSTAMP:20260425T191052
CREATED:20260129T161300Z
LAST-MODIFIED:20260305T145504Z
UID:10005742-1775851200-1775860200@fssta.ch
SUMMARY:La douche Ecossaise
DESCRIPTION:A l’issue d’un atelier théâtre pour enfants\, la Douche Ecossaise vous sera présenté
URL:https://fssta.ch/event/la-douche-ecossaise/2026-04-10/
LOCATION:Salle Polyvalente\, Semsales\, Route de la Broye 6\, Semsales\, 1623
CATEGORIES:Fribourg
ATTACH;FMTTYPE=image/png:https://fssta.ch/wp-content/uploads/2026/01/Affiche-Enfant-26-OK-1.png
ORGANIZER;CN="Groupe Th%C3%A9%C3%A2tral Le Trac":MAILTO:rsonney@sunrise.ch
END:VEVENT
END:VCALENDAR