BEGIN:VCALENDAR
VERSION:2.0
PRODID:-//FSSTA Fédération Suisse des Sociétés Théâtrales d&#039;Amateurs - ECPv6.15.20//NONSGML v1.0//EN
CALSCALE:GREGORIAN
METHOD:PUBLISH
X-ORIGINAL-URL:https://fssta.ch
X-WR-CALDESC:Évènements pour FSSTA Fédération Suisse des Sociétés Théâtrales d&#039;Amateurs
REFRESH-INTERVAL;VALUE=DURATION:PT1H
X-Robots-Tag:noindex
X-PUBLISHED-TTL:PT1H
BEGIN:VTIMEZONE
TZID:Europe/Zurich
BEGIN:DAYLIGHT
TZOFFSETFROM:+0100
TZOFFSETTO:+0200
TZNAME:CEST
DTSTART:20250330T010000
END:DAYLIGHT
BEGIN:STANDARD
TZOFFSETFROM:+0200
TZOFFSETTO:+0100
TZNAME:CET
DTSTART:20251026T010000
END:STANDARD
BEGIN:DAYLIGHT
TZOFFSETFROM:+0100
TZOFFSETTO:+0200
TZNAME:CEST
DTSTART:20260329T010000
END:DAYLIGHT
BEGIN:STANDARD
TZOFFSETFROM:+0200
TZOFFSETTO:+0100
TZNAME:CET
DTSTART:20261025T010000
END:STANDARD
BEGIN:DAYLIGHT
TZOFFSETFROM:+0100
TZOFFSETTO:+0200
TZNAME:CEST
DTSTART:20270328T010000
END:DAYLIGHT
BEGIN:STANDARD
TZOFFSETFROM:+0200
TZOFFSETTO:+0100
TZNAME:CET
DTSTART:20271031T010000
END:STANDARD
END:VTIMEZONE
BEGIN:VEVENT
DTSTART;TZID=Europe/Zurich:20260507T190000
DTEND;TZID=Europe/Zurich:20260507T220000
DTSTAMP:20260420T021704
CREATED:20260415T201530Z
LAST-MODIFIED:20260415T201530Z
UID:10006045-1778180400-1778191200@fssta.ch
SUMMARY:Nelly
DESCRIPTION:Après ses précédents succès\, la Compagnie à Trois Temps présente *Nelly*\, opérette de Marcel Lattès\, Jacques Bousquet & Henry Falk. \nNelly\, modeste couturière chez le plus parisien des tailleurs de Londres\, passe ses journées entre bobines et aiguilles… jusqu’à ce qu’elle s’amourache d’un client : Roger\, qui n’a d’yeux que pour les vedettes. Alors\, pour attirer son attention\, Nelly accepte de se faire passer pour la célèbre actrice Dolly Meynell lors d’une excursion en bord de mer. Mais à peine arrivée à Bainville\, la supercherie prend des proportions inattendues.\nEntre quiproquos\, regards charmés et mensonges qui s’entremêlent\, la situation menace de se déchirer plus vite qu’une couture mal ficelée…
URL:https://fssta.ch/event/nelly/2026-05-07/
LOCATION:Uptown Geneva\, 2\, Rue de la Servette\, Genève\, 1201
ATTACH;FMTTYPE=image/jpeg:https://fssta.ch/wp-content/uploads/2026/04/Cie3T_Nelly_2026_recto.jpeg
ORGANIZER;CN="Cie A Trois Temps":MAILTO:cie3temps@gmail.com
END:VEVENT
BEGIN:VEVENT
DTSTART;TZID=Europe/Zurich:20260508T190000
DTEND;TZID=Europe/Zurich:20260508T220000
DTSTAMP:20260420T021704
CREATED:20260415T201530Z
LAST-MODIFIED:20260415T201530Z
UID:10006046-1778266800-1778277600@fssta.ch
SUMMARY:Nelly
DESCRIPTION:Après ses précédents succès\, la Compagnie à Trois Temps présente *Nelly*\, opérette de Marcel Lattès\, Jacques Bousquet & Henry Falk. \nNelly\, modeste couturière chez le plus parisien des tailleurs de Londres\, passe ses journées entre bobines et aiguilles… jusqu’à ce qu’elle s’amourache d’un client : Roger\, qui n’a d’yeux que pour les vedettes. Alors\, pour attirer son attention\, Nelly accepte de se faire passer pour la célèbre actrice Dolly Meynell lors d’une excursion en bord de mer. Mais à peine arrivée à Bainville\, la supercherie prend des proportions inattendues.\nEntre quiproquos\, regards charmés et mensonges qui s’entremêlent\, la situation menace de se déchirer plus vite qu’une couture mal ficelée…
URL:https://fssta.ch/event/nelly/2026-05-08/
LOCATION:Uptown Geneva\, 2\, Rue de la Servette\, Genève\, 1201
ATTACH;FMTTYPE=image/jpeg:https://fssta.ch/wp-content/uploads/2026/04/Cie3T_Nelly_2026_recto.jpeg
ORGANIZER;CN="Cie A Trois Temps":MAILTO:cie3temps@gmail.com
END:VEVENT
BEGIN:VEVENT
DTSTART;TZID=Europe/Zurich:20260509T140000
DTEND;TZID=Europe/Zurich:20260509T170000
DTSTAMP:20260420T021704
CREATED:20260415T201530Z
LAST-MODIFIED:20260415T201530Z
UID:10006047-1778335200-1778346000@fssta.ch
SUMMARY:Nelly
DESCRIPTION:Après ses précédents succès\, la Compagnie à Trois Temps présente *Nelly*\, opérette de Marcel Lattès\, Jacques Bousquet & Henry Falk. \nNelly\, modeste couturière chez le plus parisien des tailleurs de Londres\, passe ses journées entre bobines et aiguilles… jusqu’à ce qu’elle s’amourache d’un client : Roger\, qui n’a d’yeux que pour les vedettes. Alors\, pour attirer son attention\, Nelly accepte de se faire passer pour la célèbre actrice Dolly Meynell lors d’une excursion en bord de mer. Mais à peine arrivée à Bainville\, la supercherie prend des proportions inattendues.\nEntre quiproquos\, regards charmés et mensonges qui s’entremêlent\, la situation menace de se déchirer plus vite qu’une couture mal ficelée…
URL:https://fssta.ch/event/nelly/2026-05-09/1/
LOCATION:Uptown Geneva\, 2\, Rue de la Servette\, Genève\, 1201
ATTACH;FMTTYPE=image/jpeg:https://fssta.ch/wp-content/uploads/2026/04/Cie3T_Nelly_2026_recto.jpeg
ORGANIZER;CN="Cie A Trois Temps":MAILTO:cie3temps@gmail.com
END:VEVENT
BEGIN:VEVENT
DTSTART;TZID=Europe/Zurich:20260509T190000
DTEND;TZID=Europe/Zurich:20260509T220000
DTSTAMP:20260420T021704
CREATED:20260415T201530Z
LAST-MODIFIED:20260415T201530Z
UID:10006048-1778353200-1778364000@fssta.ch
SUMMARY:Nelly
DESCRIPTION:Après ses précédents succès\, la Compagnie à Trois Temps présente *Nelly*\, opérette de Marcel Lattès\, Jacques Bousquet & Henry Falk. \nNelly\, modeste couturière chez le plus parisien des tailleurs de Londres\, passe ses journées entre bobines et aiguilles… jusqu’à ce qu’elle s’amourache d’un client : Roger\, qui n’a d’yeux que pour les vedettes. Alors\, pour attirer son attention\, Nelly accepte de se faire passer pour la célèbre actrice Dolly Meynell lors d’une excursion en bord de mer. Mais à peine arrivée à Bainville\, la supercherie prend des proportions inattendues.\nEntre quiproquos\, regards charmés et mensonges qui s’entremêlent\, la situation menace de se déchirer plus vite qu’une couture mal ficelée…
URL:https://fssta.ch/event/nelly/2026-05-09/2/
LOCATION:Uptown Geneva\, 2\, Rue de la Servette\, Genève\, 1201
ATTACH;FMTTYPE=image/jpeg:https://fssta.ch/wp-content/uploads/2026/04/Cie3T_Nelly_2026_recto.jpeg
ORGANIZER;CN="Cie A Trois Temps":MAILTO:cie3temps@gmail.com
END:VEVENT
END:VCALENDAR