BEGIN:VCALENDAR
VERSION:2.0
PRODID:-//FSSTA Fédération Suisse des Sociétés Théâtrales d&#039;Amateurs - ECPv6.15.20//NONSGML v1.0//EN
CALSCALE:GREGORIAN
METHOD:PUBLISH
X-WR-CALNAME:FSSTA Fédération Suisse des Sociétés Théâtrales d&#039;Amateurs
X-ORIGINAL-URL:https://fssta.ch
X-WR-CALDESC:Évènements pour FSSTA Fédération Suisse des Sociétés Théâtrales d&#039;Amateurs
REFRESH-INTERVAL;VALUE=DURATION:PT1H
X-Robots-Tag:noindex
X-PUBLISHED-TTL:PT1H
BEGIN:VTIMEZONE
TZID:Europe/Zurich
BEGIN:DAYLIGHT
TZOFFSETFROM:+0100
TZOFFSETTO:+0200
TZNAME:CEST
DTSTART:20250330T010000
END:DAYLIGHT
BEGIN:STANDARD
TZOFFSETFROM:+0200
TZOFFSETTO:+0100
TZNAME:CET
DTSTART:20251026T010000
END:STANDARD
BEGIN:DAYLIGHT
TZOFFSETFROM:+0100
TZOFFSETTO:+0200
TZNAME:CEST
DTSTART:20260329T010000
END:DAYLIGHT
BEGIN:STANDARD
TZOFFSETFROM:+0200
TZOFFSETTO:+0100
TZNAME:CET
DTSTART:20261025T010000
END:STANDARD
BEGIN:DAYLIGHT
TZOFFSETFROM:+0100
TZOFFSETTO:+0200
TZNAME:CEST
DTSTART:20270328T010000
END:DAYLIGHT
BEGIN:STANDARD
TZOFFSETFROM:+0200
TZOFFSETTO:+0100
TZNAME:CET
DTSTART:20271031T010000
END:STANDARD
END:VTIMEZONE
BEGIN:VEVENT
DTSTART;TZID=Europe/Zurich:20260212T080000
DTEND;TZID=Europe/Zurich:20260212T170000
DTSTAMP:20260423T194142
CREATED:20260212T100828Z
LAST-MODIFIED:20260212T100828Z
UID:10005828-1770883200-1770915600@fssta.ch
SUMMARY:La bonne adresse
DESCRIPTION:LA BONNE ADRESSE \nEt si 2 étudiantes louaient une chambre dans l’appartement d’une vieille gloire du Music-hall ? \nEt si la pianiste qui cherche son 1er élève\, la peintre un modèle pour poser nu\, la propriétaire un repreneur pour l’appartement et la dame de compagnie une expérience amoureuse décidaient de passer une petite annonce pour trouver leur bonheur ? \nEt si quatre hommes répondant aux diverses annonces se présentaient à la même adresse le même jour ? \nCela pourrait vite dégénérer et tourner à l’imbroglio dont Marc Camoletti a le secret !
URL:https://fssta.ch/event/la-bonne-adresse-4/
LOCATION:2112 Auvernier\, Salle Polyvalente\, Auvernier (NE)\, 2112
ATTACH;FMTTYPE=image/jpeg:https://fssta.ch/wp-content/uploads/2026/02/Jpeg_BonneAdresse_recto.jpg
ORGANIZER;CN="La Boutade":MAILTO:el.machado@outlook.com
END:VEVENT
END:VCALENDAR