BEGIN:VCALENDAR
VERSION:2.0
PRODID:-//FSSTA Fédération Suisse des Sociétés Théâtrales d&#039;Amateurs - ECPv6.15.20//NONSGML v1.0//EN
CALSCALE:GREGORIAN
METHOD:PUBLISH
X-WR-CALNAME:FSSTA Fédération Suisse des Sociétés Théâtrales d&#039;Amateurs
X-ORIGINAL-URL:https://fssta.ch
X-WR-CALDESC:Évènements pour FSSTA Fédération Suisse des Sociétés Théâtrales d&#039;Amateurs
REFRESH-INTERVAL;VALUE=DURATION:PT1H
X-Robots-Tag:noindex
X-PUBLISHED-TTL:PT1H
BEGIN:VTIMEZONE
TZID:Europe/Zurich
BEGIN:DAYLIGHT
TZOFFSETFROM:+0100
TZOFFSETTO:+0200
TZNAME:CEST
DTSTART:20240331T010000
END:DAYLIGHT
BEGIN:STANDARD
TZOFFSETFROM:+0200
TZOFFSETTO:+0100
TZNAME:CET
DTSTART:20241027T010000
END:STANDARD
BEGIN:DAYLIGHT
TZOFFSETFROM:+0100
TZOFFSETTO:+0200
TZNAME:CEST
DTSTART:20250330T010000
END:DAYLIGHT
BEGIN:STANDARD
TZOFFSETFROM:+0200
TZOFFSETTO:+0100
TZNAME:CET
DTSTART:20251026T010000
END:STANDARD
BEGIN:DAYLIGHT
TZOFFSETFROM:+0100
TZOFFSETTO:+0200
TZNAME:CEST
DTSTART:20260329T010000
END:DAYLIGHT
BEGIN:STANDARD
TZOFFSETFROM:+0200
TZOFFSETTO:+0100
TZNAME:CET
DTSTART:20261025T010000
END:STANDARD
END:VTIMEZONE
BEGIN:VEVENT
DTSTART;TZID=Europe/Zurich:20250910T200000
DTEND;TZID=Europe/Zurich:20250910T213000
DTSTAMP:20260422T134609
CREATED:20250610T123304Z
LAST-MODIFIED:20250610T123304Z
UID:10005169-1757534400-1757539800@fssta.ch
SUMMARY:État sauvage de Stéphane Jaubertie
DESCRIPTION:Une pièce puissante\, audacieuse et universelle.\nDans un univers à la fois cruel et burlesque\, État Sauvage interroge notre rapport aux normes\, à l’autorité et aux instincts primitifs. La pièce met en scène deux personnages pris dans un huis clos oppressant\, où les règles de la civilisation vacillent face à la brutalité du monde. Tour à tour absurdes\, drôles et inquiétants\, ils nous entraînent dans une danse troublante où l’ordre et le chaos s’affrontent sans merci.\nStéphane Jaubertie signe ici un texte puissant\, d’une modernité brûlante\, qui bouscule nos repères et pousse à la réflexion. Sur scène\, les corps et les mots s’entrechoquent\, dessinant une fresque humaine aussi dérangeante qu’hypnotisante.\nVoir Etat sauvage c’est vivre une expérience théâtrale unique\, où rire et malaise s’entrelacent dans un tourbillon d’émotions. Une chose est sûre : vous n’en ressortirez pas indemnes…\nOserez-vous traverser notre parc ?
URL:https://fssta.ch/event/etat-sauvage-de-stephane-jaubertie-3/2025-09-10/
LOCATION:Théâtre des Grottes\, Rue Louis-Favre 43\, Genève\, 1201
CATEGORIES:Genève
ORGANIZER;CN="Compagnie T %C3%A0 Part":MAILTO:mbaijot@bluewin.ch
END:VEVENT
BEGIN:VEVENT
DTSTART;TZID=Europe/Zurich:20250907T170000
DTEND;TZID=Europe/Zurich:20250907T183000
DTSTAMP:20260422T134609
CREATED:20250610T122830Z
LAST-MODIFIED:20250610T122830Z
UID:10005168-1757264400-1757269800@fssta.ch
SUMMARY:État sauvage de Stéphane Jaubertie
DESCRIPTION:Une pièce puissante\, audacieuse et universelle.\nDans un univers à la fois cruel et burlesque\, État Sauvage interroge notre rapport aux normes\, à l’autorité et aux instincts primitifs. La pièce met en scène deux personnages pris dans un huis clos oppressant\, où les règles de la civilisation vacillent face à la brutalité du monde. Tour à tour absurdes\, drôles et inquiétants\, ils nous entraînent dans une danse troublante où l’ordre et le chaos s’affrontent sans merci.\nStéphane Jaubertie signe ici un texte puissant\, d’une modernité brûlante\, qui bouscule nos repères et pousse à la réflexion. Sur scène\, les corps et les mots s’entrechoquent\, dessinant une fresque humaine aussi dérangeante qu’hypnotisante.\nVoir Etat sauvage c’est vivre une expérience théâtrale unique\, où rire et malaise s’entrelacent dans un tourbillon d’émotions. Une chose est sûre : vous n’en ressortirez pas indemnes…\nOserez-vous traverser notre parc ?
URL:https://fssta.ch/event/etat-sauvage-de-stephane-jaubertie-2/
LOCATION:Théâtre des Grottes\, Rue Louis-Favre 43\, Genève\, 1201
CATEGORIES:Genève
ORGANIZER;CN="Compagnie T %C3%A0 Part":MAILTO:mbaijot@bluewin.ch
END:VEVENT
BEGIN:VEVENT
DTSTART;TZID=Europe/Zurich:20250906T200000
DTEND;TZID=Europe/Zurich:20250906T213000
DTSTAMP:20260422T134609
CREATED:20250610T121251Z
LAST-MODIFIED:20250610T121315Z
UID:10005167-1757188800-1757194200@fssta.ch
SUMMARY:État sauvage de Stéphane Jaubertie
DESCRIPTION:Une pièce puissante\, audacieuse et universelle\nDans un univers à la fois cruel et burlesque\, État Sauvage interroge notre rapport aux normes\, à l’autorité et aux instincts primitifs. La pièce met en scène deux personnages pris dans un huis clos oppressant\, où les règles de la civilisation vacillent face à la brutalité du monde. Tour à tour absurdes\, drôles et inquiétants\, ils nous entraînent dans une danse troublante où l’ordre et le chaos s’affrontent sans merci. \nStéphane Jaubertie signe ici un texte puissant\, d’une modernité brûlante\, qui bouscule nos repères et pousse à la réflexion. Sur scène\, les corps et les mots s’entrechoquent\, dessinant une fresque humaine aussi dérangeante qu’hypnotisante. \nVoir Etat sauvage c’est vivre une expérience théâtrale unique\, où rire et malaise s’entrelacent dans un tourbillon d’émotions. Une chose est sûre : vous n’en ressortirez pas indemnes… \nOserez-vous traverser notre parc ?
URL:https://fssta.ch/event/etat-sauvage-de-stephane-jaubertie/2025-09-06/
LOCATION:Théâtre des Grottes\, Rue Louis-Favre 43\, Genève\, 1201
CATEGORIES:Genève
ORGANIZER;CN="Compagnie T %C3%A0 Part":MAILTO:mbaijot@bluewin.ch
END:VEVENT
BEGIN:VEVENT
DTSTART;TZID=Europe/Zurich:20250905T200000
DTEND;TZID=Europe/Zurich:20250905T213000
DTSTAMP:20260422T134609
CREATED:20250610T121251Z
LAST-MODIFIED:20250610T121315Z
UID:10005166-1757102400-1757107800@fssta.ch
SUMMARY:État sauvage de Stéphane Jaubertie
DESCRIPTION:Une pièce puissante\, audacieuse et universelle\nDans un univers à la fois cruel et burlesque\, État Sauvage interroge notre rapport aux normes\, à l’autorité et aux instincts primitifs. La pièce met en scène deux personnages pris dans un huis clos oppressant\, où les règles de la civilisation vacillent face à la brutalité du monde. Tour à tour absurdes\, drôles et inquiétants\, ils nous entraînent dans une danse troublante où l’ordre et le chaos s’affrontent sans merci. \nStéphane Jaubertie signe ici un texte puissant\, d’une modernité brûlante\, qui bouscule nos repères et pousse à la réflexion. Sur scène\, les corps et les mots s’entrechoquent\, dessinant une fresque humaine aussi dérangeante qu’hypnotisante. \nVoir Etat sauvage c’est vivre une expérience théâtrale unique\, où rire et malaise s’entrelacent dans un tourbillon d’émotions. Une chose est sûre : vous n’en ressortirez pas indemnes… \nOserez-vous traverser notre parc ?
URL:https://fssta.ch/event/etat-sauvage-de-stephane-jaubertie/2025-09-05/
LOCATION:Théâtre des Grottes\, Rue Louis-Favre 43\, Genève\, 1201
CATEGORIES:Genève
ORGANIZER;CN="Compagnie T %C3%A0 Part":MAILTO:mbaijot@bluewin.ch
END:VEVENT
BEGIN:VEVENT
DTSTART;TZID=Europe/Zurich:20250904T200000
DTEND;TZID=Europe/Zurich:20250904T213000
DTSTAMP:20260422T134609
CREATED:20250610T121251Z
LAST-MODIFIED:20250610T121315Z
UID:10005165-1757016000-1757021400@fssta.ch
SUMMARY:État sauvage de Stéphane Jaubertie
DESCRIPTION:Une pièce puissante\, audacieuse et universelle\nDans un univers à la fois cruel et burlesque\, État Sauvage interroge notre rapport aux normes\, à l’autorité et aux instincts primitifs. La pièce met en scène deux personnages pris dans un huis clos oppressant\, où les règles de la civilisation vacillent face à la brutalité du monde. Tour à tour absurdes\, drôles et inquiétants\, ils nous entraînent dans une danse troublante où l’ordre et le chaos s’affrontent sans merci. \nStéphane Jaubertie signe ici un texte puissant\, d’une modernité brûlante\, qui bouscule nos repères et pousse à la réflexion. Sur scène\, les corps et les mots s’entrechoquent\, dessinant une fresque humaine aussi dérangeante qu’hypnotisante. \nVoir Etat sauvage c’est vivre une expérience théâtrale unique\, où rire et malaise s’entrelacent dans un tourbillon d’émotions. Une chose est sûre : vous n’en ressortirez pas indemnes… \nOserez-vous traverser notre parc ?
URL:https://fssta.ch/event/etat-sauvage-de-stephane-jaubertie/2025-09-04/
LOCATION:Théâtre des Grottes\, Rue Louis-Favre 43\, Genève\, 1201
CATEGORIES:Genève
ORGANIZER;CN="Compagnie T %C3%A0 Part":MAILTO:mbaijot@bluewin.ch
END:VEVENT
BEGIN:VEVENT
DTSTART;TZID=Europe/Zurich:20250903T200000
DTEND;TZID=Europe/Zurich:20250903T213000
DTSTAMP:20260422T134609
CREATED:20250610T121251Z
LAST-MODIFIED:20250610T121315Z
UID:10005164-1756929600-1756935000@fssta.ch
SUMMARY:État sauvage de Stéphane Jaubertie
DESCRIPTION:Une pièce puissante\, audacieuse et universelle\nDans un univers à la fois cruel et burlesque\, État Sauvage interroge notre rapport aux normes\, à l’autorité et aux instincts primitifs. La pièce met en scène deux personnages pris dans un huis clos oppressant\, où les règles de la civilisation vacillent face à la brutalité du monde. Tour à tour absurdes\, drôles et inquiétants\, ils nous entraînent dans une danse troublante où l’ordre et le chaos s’affrontent sans merci. \nStéphane Jaubertie signe ici un texte puissant\, d’une modernité brûlante\, qui bouscule nos repères et pousse à la réflexion. Sur scène\, les corps et les mots s’entrechoquent\, dessinant une fresque humaine aussi dérangeante qu’hypnotisante. \nVoir Etat sauvage c’est vivre une expérience théâtrale unique\, où rire et malaise s’entrelacent dans un tourbillon d’émotions. Une chose est sûre : vous n’en ressortirez pas indemnes… \nOserez-vous traverser notre parc ?
URL:https://fssta.ch/event/etat-sauvage-de-stephane-jaubertie/2025-09-03/
LOCATION:Théâtre des Grottes\, Rue Louis-Favre 43\, Genève\, 1201
CATEGORIES:Genève
ORGANIZER;CN="Compagnie T %C3%A0 Part":MAILTO:mbaijot@bluewin.ch
END:VEVENT
BEGIN:VEVENT
DTSTART;TZID=Europe/Zurich:20250902T200000
DTEND;TZID=Europe/Zurich:20250902T213000
DTSTAMP:20260422T134609
CREATED:20250610T121251Z
LAST-MODIFIED:20250610T121315Z
UID:10005163-1756843200-1756848600@fssta.ch
SUMMARY:État sauvage de Stéphane Jaubertie
DESCRIPTION:Une pièce puissante\, audacieuse et universelle\nDans un univers à la fois cruel et burlesque\, État Sauvage interroge notre rapport aux normes\, à l’autorité et aux instincts primitifs. La pièce met en scène deux personnages pris dans un huis clos oppressant\, où les règles de la civilisation vacillent face à la brutalité du monde. Tour à tour absurdes\, drôles et inquiétants\, ils nous entraînent dans une danse troublante où l’ordre et le chaos s’affrontent sans merci. \nStéphane Jaubertie signe ici un texte puissant\, d’une modernité brûlante\, qui bouscule nos repères et pousse à la réflexion. Sur scène\, les corps et les mots s’entrechoquent\, dessinant une fresque humaine aussi dérangeante qu’hypnotisante. \nVoir Etat sauvage c’est vivre une expérience théâtrale unique\, où rire et malaise s’entrelacent dans un tourbillon d’émotions. Une chose est sûre : vous n’en ressortirez pas indemnes… \nOserez-vous traverser notre parc ?
URL:https://fssta.ch/event/etat-sauvage-de-stephane-jaubertie/2025-09-02/
LOCATION:Théâtre des Grottes\, Rue Louis-Favre 43\, Genève\, 1201
CATEGORIES:Genève
ORGANIZER;CN="Compagnie T %C3%A0 Part":MAILTO:mbaijot@bluewin.ch
END:VEVENT
BEGIN:VEVENT
DTSTART;TZID=Europe/Zurich:20250628T200000
DTEND;TZID=Europe/Zurich:20250628T210000
DTSTAMP:20260422T134609
CREATED:20250602T143603Z
LAST-MODIFIED:20250602T144622Z
UID:10005162-1751140800-1751144400@fssta.ch
SUMMARY:Les mangeuses de chocolat
DESCRIPTION:Apparemment\, un mal hante certains esprits dans notre société : la chocolatomanie. Nous nous retrouvons dans une séance de thérapie de groupe à laquelle participent quatre femmes : Elodie\, Liliane\, Marielle et bien sûr la thérapeute. Leur mission : partir à la recherche de leur « événement déclencheur ». Que cherchent-elles vraiment ? Pourquoi refusent-elles de se livrer ? Se libéreront-elles de leur chocolatomanie ? \nOuverture des portes une heure avant le spectacle. Buvette avec petite restauration sur place.
URL:https://fssta.ch/event/les-mangeuses-de-chocolat/2025-06-28/
LOCATION:Théâtre des Grottes\, Rue Louis-Favre 43\, Genève\, 1201
CATEGORIES:Genève
ORGANIZER;CN="Ateliers-th%C3%A9%C3%A2tre Mosa%C3%AFque":MAILTO:info@mosaiquetheatre.ch
END:VEVENT
BEGIN:VEVENT
DTSTART;TZID=Europe/Zurich:20250627T200000
DTEND;TZID=Europe/Zurich:20250627T210000
DTSTAMP:20260422T134609
CREATED:20250602T143603Z
LAST-MODIFIED:20250602T144622Z
UID:10005161-1751054400-1751058000@fssta.ch
SUMMARY:Les mangeuses de chocolat
DESCRIPTION:Apparemment\, un mal hante certains esprits dans notre société : la chocolatomanie. Nous nous retrouvons dans une séance de thérapie de groupe à laquelle participent quatre femmes : Elodie\, Liliane\, Marielle et bien sûr la thérapeute. Leur mission : partir à la recherche de leur « événement déclencheur ». Que cherchent-elles vraiment ? Pourquoi refusent-elles de se livrer ? Se libéreront-elles de leur chocolatomanie ? \nOuverture des portes une heure avant le spectacle. Buvette avec petite restauration sur place.
URL:https://fssta.ch/event/les-mangeuses-de-chocolat/2025-06-27/
LOCATION:Théâtre des Grottes\, Rue Louis-Favre 43\, Genève\, 1201
CATEGORIES:Genève
ORGANIZER;CN="Ateliers-th%C3%A9%C3%A2tre Mosa%C3%AFque":MAILTO:info@mosaiquetheatre.ch
END:VEVENT
BEGIN:VEVENT
DTSTART;TZID=Europe/Zurich:20250626T200000
DTEND;TZID=Europe/Zurich:20250626T210000
DTSTAMP:20260422T134609
CREATED:20250602T143603Z
LAST-MODIFIED:20250602T144622Z
UID:10005160-1750968000-1750971600@fssta.ch
SUMMARY:Les mangeuses de chocolat
DESCRIPTION:Apparemment\, un mal hante certains esprits dans notre société : la chocolatomanie. Nous nous retrouvons dans une séance de thérapie de groupe à laquelle participent quatre femmes : Elodie\, Liliane\, Marielle et bien sûr la thérapeute. Leur mission : partir à la recherche de leur « événement déclencheur ». Que cherchent-elles vraiment ? Pourquoi refusent-elles de se livrer ? Se libéreront-elles de leur chocolatomanie ? \nOuverture des portes une heure avant le spectacle. Buvette avec petite restauration sur place.
URL:https://fssta.ch/event/les-mangeuses-de-chocolat/2025-06-26/
LOCATION:Théâtre des Grottes\, Rue Louis-Favre 43\, Genève\, 1201
CATEGORIES:Genève
ORGANIZER;CN="Ateliers-th%C3%A9%C3%A2tre Mosa%C3%AFque":MAILTO:info@mosaiquetheatre.ch
END:VEVENT
BEGIN:VEVENT
DTSTART;TZID=Europe/Zurich:20250625T200000
DTEND;TZID=Europe/Zurich:20250625T210000
DTSTAMP:20260422T134609
CREATED:20250602T143603Z
LAST-MODIFIED:20250602T144622Z
UID:10005159-1750881600-1750885200@fssta.ch
SUMMARY:Les mangeuses de chocolat
DESCRIPTION:Apparemment\, un mal hante certains esprits dans notre société : la chocolatomanie. Nous nous retrouvons dans une séance de thérapie de groupe à laquelle participent quatre femmes : Elodie\, Liliane\, Marielle et bien sûr la thérapeute. Leur mission : partir à la recherche de leur « événement déclencheur ». Que cherchent-elles vraiment ? Pourquoi refusent-elles de se livrer ? Se libéreront-elles de leur chocolatomanie ? \nOuverture des portes une heure avant le spectacle. Buvette avec petite restauration sur place.
URL:https://fssta.ch/event/les-mangeuses-de-chocolat/2025-06-25/
LOCATION:Théâtre des Grottes\, Rue Louis-Favre 43\, Genève\, 1201
CATEGORIES:Genève
ORGANIZER;CN="Ateliers-th%C3%A9%C3%A2tre Mosa%C3%AFque":MAILTO:info@mosaiquetheatre.ch
END:VEVENT
BEGIN:VEVENT
DTSTART;TZID=Europe/Zurich:20250624T200000
DTEND;TZID=Europe/Zurich:20250624T210000
DTSTAMP:20260422T134609
CREATED:20250602T143603Z
LAST-MODIFIED:20250602T144622Z
UID:10005158-1750795200-1750798800@fssta.ch
SUMMARY:Les mangeuses de chocolat
DESCRIPTION:Apparemment\, un mal hante certains esprits dans notre société : la chocolatomanie. Nous nous retrouvons dans une séance de thérapie de groupe à laquelle participent quatre femmes : Elodie\, Liliane\, Marielle et bien sûr la thérapeute. Leur mission : partir à la recherche de leur « événement déclencheur ». Que cherchent-elles vraiment ? Pourquoi refusent-elles de se livrer ? Se libéreront-elles de leur chocolatomanie ? \nOuverture des portes une heure avant le spectacle. Buvette avec petite restauration sur place.
URL:https://fssta.ch/event/les-mangeuses-de-chocolat/2025-06-24/
LOCATION:Théâtre des Grottes\, Rue Louis-Favre 43\, Genève\, 1201
CATEGORIES:Genève
ORGANIZER;CN="Ateliers-th%C3%A9%C3%A2tre Mosa%C3%AFque":MAILTO:info@mosaiquetheatre.ch
END:VEVENT
BEGIN:VEVENT
DTSTART;TZID=Europe/Zurich:20250622T170000
DTEND;TZID=Europe/Zurich:20250622T180000
DTSTAMP:20260422T134609
CREATED:20250602T143603Z
LAST-MODIFIED:20250602T144622Z
UID:10005157-1750611600-1750615200@fssta.ch
SUMMARY:Les mangeuses de chocolat
DESCRIPTION:Apparemment\, un mal hante certains esprits dans notre société : la chocolatomanie. Nous nous retrouvons dans une séance de thérapie de groupe à laquelle participent quatre femmes : Elodie\, Liliane\, Marielle et bien sûr la thérapeute. Leur mission : partir à la recherche de leur « événement déclencheur ». Que cherchent-elles vraiment ? Pourquoi refusent-elles de se livrer ? Se libéreront-elles de leur chocolatomanie ? \nOuverture des portes une heure avant le spectacle. Buvette avec petite restauration sur place.
URL:https://fssta.ch/event/les-mangeuses-de-chocolat/2025-06-22/
LOCATION:Théâtre des Grottes\, Rue Louis-Favre 43\, Genève\, 1201
CATEGORIES:Genève
ORGANIZER;CN="Ateliers-th%C3%A9%C3%A2tre Mosa%C3%AFque":MAILTO:info@mosaiquetheatre.ch
END:VEVENT
BEGIN:VEVENT
DTSTART;TZID=Europe/Zurich:20250621T200000
DTEND;TZID=Europe/Zurich:20250621T210000
DTSTAMP:20260422T134609
CREATED:20250602T143603Z
LAST-MODIFIED:20250602T144622Z
UID:10005156-1750536000-1750539600@fssta.ch
SUMMARY:Les mangeuses de chocolat
DESCRIPTION:Apparemment\, un mal hante certains esprits dans notre société : la chocolatomanie. Nous nous retrouvons dans une séance de thérapie de groupe à laquelle participent quatre femmes : Elodie\, Liliane\, Marielle et bien sûr la thérapeute. Leur mission : partir à la recherche de leur « événement déclencheur ». Que cherchent-elles vraiment ? Pourquoi refusent-elles de se livrer ? Se libéreront-elles de leur chocolatomanie ? \nOuverture des portes une heure avant le spectacle. Buvette avec petite restauration sur place.
URL:https://fssta.ch/event/les-mangeuses-de-chocolat/2025-06-21/
LOCATION:Théâtre des Grottes\, Rue Louis-Favre 43\, Genève\, 1201
CATEGORIES:Genève
ORGANIZER;CN="Ateliers-th%C3%A9%C3%A2tre Mosa%C3%AFque":MAILTO:info@mosaiquetheatre.ch
END:VEVENT
BEGIN:VEVENT
DTSTART;TZID=Europe/Zurich:20250620T200000
DTEND;TZID=Europe/Zurich:20250620T210000
DTSTAMP:20260422T134609
CREATED:20250602T143603Z
LAST-MODIFIED:20250602T144622Z
UID:10005155-1750449600-1750453200@fssta.ch
SUMMARY:Les mangeuses de chocolat
DESCRIPTION:Apparemment\, un mal hante certains esprits dans notre société : la chocolatomanie. Nous nous retrouvons dans une séance de thérapie de groupe à laquelle participent quatre femmes : Elodie\, Liliane\, Marielle et bien sûr la thérapeute. Leur mission : partir à la recherche de leur « événement déclencheur ». Que cherchent-elles vraiment ? Pourquoi refusent-elles de se livrer ? Se libéreront-elles de leur chocolatomanie ? \nOuverture des portes une heure avant le spectacle. Buvette avec petite restauration sur place.
URL:https://fssta.ch/event/les-mangeuses-de-chocolat/2025-06-20/
LOCATION:Théâtre des Grottes\, Rue Louis-Favre 43\, Genève\, 1201
CATEGORIES:Genève
ORGANIZER;CN="Ateliers-th%C3%A9%C3%A2tre Mosa%C3%AFque":MAILTO:info@mosaiquetheatre.ch
END:VEVENT
END:VCALENDAR