BEGIN:VCALENDAR
VERSION:2.0
PRODID:-//FSSTA Fédération Suisse des Sociétés Théâtrales d&#039;Amateurs - ECPv6.15.20//NONSGML v1.0//EN
CALSCALE:GREGORIAN
METHOD:PUBLISH
X-WR-CALNAME:FSSTA Fédération Suisse des Sociétés Théâtrales d&#039;Amateurs
X-ORIGINAL-URL:https://fssta.ch
X-WR-CALDESC:Évènements pour FSSTA Fédération Suisse des Sociétés Théâtrales d&#039;Amateurs
REFRESH-INTERVAL;VALUE=DURATION:PT1H
X-Robots-Tag:noindex
X-PUBLISHED-TTL:PT1H
BEGIN:VTIMEZONE
TZID:Europe/Zurich
BEGIN:DAYLIGHT
TZOFFSETFROM:+0100
TZOFFSETTO:+0200
TZNAME:CEST
DTSTART:20240331T010000
END:DAYLIGHT
BEGIN:STANDARD
TZOFFSETFROM:+0200
TZOFFSETTO:+0100
TZNAME:CET
DTSTART:20241027T010000
END:STANDARD
BEGIN:DAYLIGHT
TZOFFSETFROM:+0100
TZOFFSETTO:+0200
TZNAME:CEST
DTSTART:20250330T010000
END:DAYLIGHT
BEGIN:STANDARD
TZOFFSETFROM:+0200
TZOFFSETTO:+0100
TZNAME:CET
DTSTART:20251026T010000
END:STANDARD
BEGIN:DAYLIGHT
TZOFFSETFROM:+0100
TZOFFSETTO:+0200
TZNAME:CEST
DTSTART:20260329T010000
END:DAYLIGHT
BEGIN:STANDARD
TZOFFSETFROM:+0200
TZOFFSETTO:+0100
TZNAME:CET
DTSTART:20261025T010000
END:STANDARD
END:VTIMEZONE
BEGIN:VEVENT
DTSTART;TZID=Europe/Zurich:20251102T170000
DTEND;TZID=Europe/Zurich:20251102T183000
DTSTAMP:20260422T034545
CREATED:20250902T152912Z
LAST-MODIFIED:20250902T152912Z
UID:10005213-1762102800-1762108200@fssta.ch
SUMMARY:BUILDING de Léonore Confino
DESCRIPTION:Une comédie entre rire et noirceur!\nUn building de treize étages. Gravissant à chaque scène un des étages d’une entreprise ayant pour mission absurde de conseiller des conseillers\, nous y croisons de multiples personnages : directeur\, agents d’entretien\, hôtesses\, comptables\, coaches\, télémarketeurs\, etc…\nqui se débattent dans un système de travail souvent vide de sens. Des crashs d’oiseaux contre les baies vitrées ponctuent le récit et en préfigurent symboliquement la chute. L’auteure\, Léonore Confino\, a reçu pour cette pièce caustique le Grand Prix du Théâtre en 2010. Voici ce qu’elle en dit : « Le texte n’exprime pas une colère contre l’entreprise en général\, mais contre les entreprises faibles qui n’ont pas de vision humaine à long terme.\nCertains employés ne sont plus des humains\, mais des ressources humaines »\, une matière première que certains s’autorisent à épuiser… Je suis partie de « clichés » (je n’aime pas le mot) pour les presser jusqu’à ce qu’ils s’écroulent. J’aime faire baver les clichés… »\nLéonore Confino\, née en 1981\, est actrice\, dramaturge de théâtre et réalisatrice de films.\nAprès un stage en entreprise\, elle écrit Building\, maniant habilement l’humour noir\, acide et absurde.\nDans la version proposée par la Troupe de La Clef\, les 32 employés sont interprétés par quatre comédiennes et un comédien\, accompagnés par un musicien qui contribue hautement à l’ambiance féroce qui parlera sans doute à beaucoup!
URL:https://fssta.ch/event/building-de-leonore-confino-2/
LOCATION:Salle de spectacle\, Corgémont (BE)\, Rue des Collèges 1\, Corgémont\, 2606
CATEGORIES:Berne
ORGANIZER;CN="Troupe de la Clef":MAILTO:albisetti.carlo@gmail.com
END:VEVENT
BEGIN:VEVENT
DTSTART;TZID=Europe/Zurich:20251101T203000
DTEND;TZID=Europe/Zurich:20251101T220000
DTSTAMP:20260422T034545
CREATED:20250902T152614Z
LAST-MODIFIED:20250902T152614Z
UID:10005212-1762029000-1762034400@fssta.ch
SUMMARY:BUILDING de Léonore Confino
DESCRIPTION:Une comédie entre rire et noirceur!\nUn building de treize étages. Gravissant à chaque scène un des étages d’une entreprise ayant pour mission absurde de conseiller des conseillers\, nous y croisons de multiples personnages : directeur\, agents d’entretien\, hôtesses\, comptables\, coaches\, télémarketeurs\, etc…\nqui se débattent dans un système de travail souvent vide de sens. Des crashs d’oiseaux contre les baies vitrées ponctuent le récit et en préfigurent symboliquement la chute. L’auteure\, Léonore Confino\, a reçu pour cette pièce caustique le Grand Prix du Théâtre en 2010. Voici ce qu’elle en dit : « Le texte n’exprime pas une colère contre l’entreprise en général\, mais contre les entreprises faibles qui n’ont pas de vision humaine à long terme.\nCertains employés ne sont plus des humains\, mais des ressources humaines »\, une matière première que certains s’autorisent à épuiser… Je suis partie de « clichés » (je n’aime pas le mot) pour les presser jusqu’à ce qu’ils s’écroulent. J’aime faire baver les clichés… »\nLéonore Confino\, née en 1981\, est actrice\, dramaturge de théâtre et réalisatrice de films.\nAprès un stage en entreprise\, elle écrit Building\, maniant habilement l’humour noir\, acide et absurde.\nDans la version proposée par la Troupe de La Clef\, les 32 employés sont interprétés par quatre comédiennes et un comédien\, accompagnés par un musicien qui contribue hautement à l’ambiance féroce qui parlera sans doute à beaucoup!
URL:https://fssta.ch/event/building-de-leonore-confino/
LOCATION:Salle de spectacle\, Corgémont (BE)\, Rue des Collèges 1\, Corgémont\, 2606
CATEGORIES:Berne
ORGANIZER;CN="Troupe de la Clef":MAILTO:albisetti.carlo@gmail.com
END:VEVENT
END:VCALENDAR