BEGIN:VCALENDAR
VERSION:2.0
PRODID:-//FSSTA Fédération Suisse des Sociétés Théâtrales d&#039;Amateurs - ECPv6.15.20//NONSGML v1.0//EN
CALSCALE:GREGORIAN
METHOD:PUBLISH
X-ORIGINAL-URL:https://fssta.ch
X-WR-CALDESC:Évènements pour FSSTA Fédération Suisse des Sociétés Théâtrales d&#039;Amateurs
REFRESH-INTERVAL;VALUE=DURATION:PT1H
X-Robots-Tag:noindex
X-PUBLISHED-TTL:PT1H
BEGIN:VTIMEZONE
TZID:Europe/Zurich
BEGIN:DAYLIGHT
TZOFFSETFROM:+0100
TZOFFSETTO:+0200
TZNAME:CEST
DTSTART:20240331T010000
END:DAYLIGHT
BEGIN:STANDARD
TZOFFSETFROM:+0200
TZOFFSETTO:+0100
TZNAME:CET
DTSTART:20241027T010000
END:STANDARD
BEGIN:DAYLIGHT
TZOFFSETFROM:+0100
TZOFFSETTO:+0200
TZNAME:CEST
DTSTART:20250330T010000
END:DAYLIGHT
BEGIN:STANDARD
TZOFFSETFROM:+0200
TZOFFSETTO:+0100
TZNAME:CET
DTSTART:20251026T010000
END:STANDARD
BEGIN:DAYLIGHT
TZOFFSETFROM:+0100
TZOFFSETTO:+0200
TZNAME:CEST
DTSTART:20260329T010000
END:DAYLIGHT
BEGIN:STANDARD
TZOFFSETFROM:+0200
TZOFFSETTO:+0100
TZNAME:CET
DTSTART:20261025T010000
END:STANDARD
BEGIN:DAYLIGHT
TZOFFSETFROM:+0100
TZOFFSETTO:+0200
TZNAME:CEST
DTSTART:20270328T010000
END:DAYLIGHT
BEGIN:STANDARD
TZOFFSETFROM:+0200
TZOFFSETTO:+0100
TZNAME:CET
DTSTART:20271031T010000
END:STANDARD
END:VTIMEZONE
BEGIN:VEVENT
DTSTART;TZID=Europe/Zurich:20260322T180000
DTEND;TZID=Europe/Zurich:20260322T200000
DTSTAMP:20260422T162509
CREATED:20260218T123006Z
LAST-MODIFIED:20260218T123006Z
UID:10005857-1774202400-1774209600@fssta.ch
SUMMARY:Un Air de Famille
DESCRIPTION:Philippe a réussi : Marié à Yolande\, il est cadre dans une entreprise qui emploie sa sœur Betty\, une célibataire farouche.  \nEn compagnie de leur mère\, ils se réunissent comme tous les vendredis soirs dans le modeste bistro tenu par Henri\, le frère aîné. Mais ce soir\, c’est l’anniversaire de Yolande et les choses ne se passent pas tout à fait comme elles devraient.  \nEt quand Denis\, le garçon de café se mêle des histoires de famille\, les réjouissances prennent des allures de règlement de compte.
URL:https://fssta.ch/event/un-air-de-famille/2026-03-22/
LOCATION:L’Oxymore\, Chemin de Versailles\, 14\, Cully\, 1096
CATEGORIES:Vaud
ATTACH;FMTTYPE=image/jpeg:https://fssta.ch/wp-content/uploads/2026/02/Illustration_sans_titre-1_page-0001.jpg
ORGANIZER;CN="Th%C3%A9atre du Pav%C3%A9 - Marcel Gippa":MAILTO:info@troupedupave.com
END:VEVENT
BEGIN:VEVENT
DTSTART;TZID=Europe/Zurich:20260321T190000
DTEND;TZID=Europe/Zurich:20260321T210000
DTSTAMP:20260422T162509
CREATED:20260218T123006Z
LAST-MODIFIED:20260218T123006Z
UID:10005856-1774119600-1774126800@fssta.ch
SUMMARY:Un Air de Famille
DESCRIPTION:Philippe a réussi : Marié à Yolande\, il est cadre dans une entreprise qui emploie sa sœur Betty\, une célibataire farouche.  \nEn compagnie de leur mère\, ils se réunissent comme tous les vendredis soirs dans le modeste bistro tenu par Henri\, le frère aîné. Mais ce soir\, c’est l’anniversaire de Yolande et les choses ne se passent pas tout à fait comme elles devraient.  \nEt quand Denis\, le garçon de café se mêle des histoires de famille\, les réjouissances prennent des allures de règlement de compte.
URL:https://fssta.ch/event/un-air-de-famille/2026-03-21/
LOCATION:L’Oxymore\, Chemin de Versailles\, 14\, Cully\, 1096
CATEGORIES:Vaud
ATTACH;FMTTYPE=image/jpeg:https://fssta.ch/wp-content/uploads/2026/02/Illustration_sans_titre-1_page-0001.jpg
ORGANIZER;CN="Th%C3%A9atre du Pav%C3%A9 - Marcel Gippa":MAILTO:info@troupedupave.com
END:VEVENT
BEGIN:VEVENT
DTSTART;TZID=Europe/Zurich:20260320T200000
DTEND;TZID=Europe/Zurich:20260320T220000
DTSTAMP:20260422T162509
CREATED:20260218T123006Z
LAST-MODIFIED:20260218T123006Z
UID:10005855-1774036800-1774044000@fssta.ch
SUMMARY:Un Air de Famille
DESCRIPTION:Philippe a réussi : Marié à Yolande\, il est cadre dans une entreprise qui emploie sa sœur Betty\, une célibataire farouche.  \nEn compagnie de leur mère\, ils se réunissent comme tous les vendredis soirs dans le modeste bistro tenu par Henri\, le frère aîné. Mais ce soir\, c’est l’anniversaire de Yolande et les choses ne se passent pas tout à fait comme elles devraient.  \nEt quand Denis\, le garçon de café se mêle des histoires de famille\, les réjouissances prennent des allures de règlement de compte.
URL:https://fssta.ch/event/un-air-de-famille/2026-03-20/
LOCATION:L’Oxymore\, Chemin de Versailles\, 14\, Cully\, 1096
CATEGORIES:Vaud
ATTACH;FMTTYPE=image/jpeg:https://fssta.ch/wp-content/uploads/2026/02/Illustration_sans_titre-1_page-0001.jpg
ORGANIZER;CN="Th%C3%A9atre du Pav%C3%A9 - Marcel Gippa":MAILTO:info@troupedupave.com
END:VEVENT
BEGIN:VEVENT
DTSTART;TZID=Europe/Zurich:20250511T170000
DTEND;TZID=Europe/Zurich:20250511T190000
DTSTAMP:20260422T162509
CREATED:20250129T085830Z
LAST-MODIFIED:20250129T085830Z
UID:10004906-1746982800-1746990000@fssta.ch
SUMMARY:Le trésor de tante Agathe
DESCRIPTION:Pleine de rythme\, cette comédie en deux actes de Marie Laroche-Fermis nous présente une famille bourgeoise un chouia dysfonctionnelle dont le quotidien se trouve bouleversé par une annonce inattendue : leur défunte tante d’Amérique leur lègue un trésor… à la condition expresse\, insiste le notaire\, que les parents forment un couple uni et que les enfants soient mariés ! Comment s’en sortir avec un père coureur de jupons\, une ancienne maîtresse qui vient le faire chanter et des enfants incasables ? Surtout que la bonne a la langue bien pendue et son petit ami les oreilles qui traînent. Mais au fait\, c’est quoi le trésor de tante Agathe ?
URL:https://fssta.ch/event/le-tresor-de-tante-agathe-3/2025-05-11/
LOCATION:L’Oxymore\, Chemin de Versailles\, 14\, Cully\, 1096
CATEGORIES:Vaud
ORGANIZER;CN="Les Snooks":MAILTO:e.lecoultre@snooks.ch
END:VEVENT
BEGIN:VEVENT
DTSTART;TZID=Europe/Zurich:20250510T200000
DTEND;TZID=Europe/Zurich:20250510T220000
DTSTAMP:20260422T162509
CREATED:20250129T085830Z
LAST-MODIFIED:20250129T085830Z
UID:10004905-1746907200-1746914400@fssta.ch
SUMMARY:Le trésor de tante Agathe
DESCRIPTION:Pleine de rythme\, cette comédie en deux actes de Marie Laroche-Fermis nous présente une famille bourgeoise un chouia dysfonctionnelle dont le quotidien se trouve bouleversé par une annonce inattendue : leur défunte tante d’Amérique leur lègue un trésor… à la condition expresse\, insiste le notaire\, que les parents forment un couple uni et que les enfants soient mariés ! Comment s’en sortir avec un père coureur de jupons\, une ancienne maîtresse qui vient le faire chanter et des enfants incasables ? Surtout que la bonne a la langue bien pendue et son petit ami les oreilles qui traînent. Mais au fait\, c’est quoi le trésor de tante Agathe ?
URL:https://fssta.ch/event/le-tresor-de-tante-agathe-3/2025-05-10/
LOCATION:L’Oxymore\, Chemin de Versailles\, 14\, Cully\, 1096
CATEGORIES:Vaud
ORGANIZER;CN="Les Snooks":MAILTO:e.lecoultre@snooks.ch
END:VEVENT
BEGIN:VEVENT
DTSTART;TZID=Europe/Zurich:20250509T200000
DTEND;TZID=Europe/Zurich:20250509T220000
DTSTAMP:20260422T162509
CREATED:20250129T085830Z
LAST-MODIFIED:20250129T085830Z
UID:10004904-1746820800-1746828000@fssta.ch
SUMMARY:Le trésor de tante Agathe
DESCRIPTION:Pleine de rythme\, cette comédie en deux actes de Marie Laroche-Fermis nous présente une famille bourgeoise un chouia dysfonctionnelle dont le quotidien se trouve bouleversé par une annonce inattendue : leur défunte tante d’Amérique leur lègue un trésor… à la condition expresse\, insiste le notaire\, que les parents forment un couple uni et que les enfants soient mariés ! Comment s’en sortir avec un père coureur de jupons\, une ancienne maîtresse qui vient le faire chanter et des enfants incasables ? Surtout que la bonne a la langue bien pendue et son petit ami les oreilles qui traînent. Mais au fait\, c’est quoi le trésor de tante Agathe ?
URL:https://fssta.ch/event/le-tresor-de-tante-agathe-3/2025-05-09/
LOCATION:L’Oxymore\, Chemin de Versailles\, 14\, Cully\, 1096
CATEGORIES:Vaud
ORGANIZER;CN="Les Snooks":MAILTO:e.lecoultre@snooks.ch
END:VEVENT
END:VCALENDAR