BEGIN:VCALENDAR
VERSION:2.0
PRODID:-//FSSTA Fédération Suisse des Sociétés Théâtrales d&#039;Amateurs - ECPv6.15.20//NONSGML v1.0//EN
CALSCALE:GREGORIAN
METHOD:PUBLISH
X-ORIGINAL-URL:https://fssta.ch
X-WR-CALDESC:Évènements pour FSSTA Fédération Suisse des Sociétés Théâtrales d&#039;Amateurs
REFRESH-INTERVAL;VALUE=DURATION:PT1H
X-Robots-Tag:noindex
X-PUBLISHED-TTL:PT1H
BEGIN:VTIMEZONE
TZID:Europe/Zurich
BEGIN:DAYLIGHT
TZOFFSETFROM:+0100
TZOFFSETTO:+0200
TZNAME:CEST
DTSTART:20240331T010000
END:DAYLIGHT
BEGIN:STANDARD
TZOFFSETFROM:+0200
TZOFFSETTO:+0100
TZNAME:CET
DTSTART:20241027T010000
END:STANDARD
BEGIN:DAYLIGHT
TZOFFSETFROM:+0100
TZOFFSETTO:+0200
TZNAME:CEST
DTSTART:20250330T010000
END:DAYLIGHT
BEGIN:STANDARD
TZOFFSETFROM:+0200
TZOFFSETTO:+0100
TZNAME:CET
DTSTART:20251026T010000
END:STANDARD
BEGIN:DAYLIGHT
TZOFFSETFROM:+0100
TZOFFSETTO:+0200
TZNAME:CEST
DTSTART:20260329T010000
END:DAYLIGHT
BEGIN:STANDARD
TZOFFSETFROM:+0200
TZOFFSETTO:+0100
TZNAME:CET
DTSTART:20261025T010000
END:STANDARD
END:VTIMEZONE
BEGIN:VEVENT
DTSTART;TZID=Europe/Zurich:20250412T200000
DTEND;TZID=Europe/Zurich:20250412T223000
DTSTAMP:20260423T115114
CREATED:20250312T113154Z
LAST-MODIFIED:20250312T113154Z
UID:10005044-1744488000-1744497000@fssta.ch
SUMMARY:Mélusine dans la vie de château
DESCRIPTION:Un manoir hanté\, un vampire farfelu (Monsieur)\, un spectre acariâtre (Madame) et un majordome peu banal : bienvenue dans l’antre du comte. Mélusine\, jeune sorcière espiègle\, devient leur bonne à tout faire.\nAvec son amie Cancrelune\, elles se pencheront sur les secrets d’un sort mystérieux\, subiront les foudres du professeur Haaselblatt et déjoueront les plans de cette peste de Vitrioline\, Sans oublier l’Abbé\, un peu trop passionné par le feu…
URL:https://fssta.ch/event/melusine-dans-la-vie-de-chateau/2025-04-12/
LOCATION:Auberge de la Gare\, Grolley\, Rte de la Gare 2\, Grolley\, 1772
CATEGORIES:Fribourg
ORGANIZER;CN="Th%C3%A9%C3%A2tre du P'tit Trac":MAILTO:fam_nein@bluewin.ch
END:VEVENT
BEGIN:VEVENT
DTSTART;TZID=Europe/Zurich:20250411T200000
DTEND;TZID=Europe/Zurich:20250411T223000
DTSTAMP:20260423T115114
CREATED:20250312T113154Z
LAST-MODIFIED:20250312T113154Z
UID:10005043-1744401600-1744410600@fssta.ch
SUMMARY:Mélusine dans la vie de château
DESCRIPTION:Un manoir hanté\, un vampire farfelu (Monsieur)\, un spectre acariâtre (Madame) et un majordome peu banal : bienvenue dans l’antre du comte. Mélusine\, jeune sorcière espiègle\, devient leur bonne à tout faire.\nAvec son amie Cancrelune\, elles se pencheront sur les secrets d’un sort mystérieux\, subiront les foudres du professeur Haaselblatt et déjoueront les plans de cette peste de Vitrioline\, Sans oublier l’Abbé\, un peu trop passionné par le feu…
URL:https://fssta.ch/event/melusine-dans-la-vie-de-chateau/2025-04-11/
LOCATION:Auberge de la Gare\, Grolley\, Rte de la Gare 2\, Grolley\, 1772
CATEGORIES:Fribourg
ORGANIZER;CN="Th%C3%A9%C3%A2tre du P'tit Trac":MAILTO:fam_nein@bluewin.ch
END:VEVENT
BEGIN:VEVENT
DTSTART;TZID=Europe/Zurich:20250410T200000
DTEND;TZID=Europe/Zurich:20250410T223000
DTSTAMP:20260423T115114
CREATED:20250312T113154Z
LAST-MODIFIED:20250312T113154Z
UID:10005042-1744315200-1744324200@fssta.ch
SUMMARY:Mélusine dans la vie de château
DESCRIPTION:Un manoir hanté\, un vampire farfelu (Monsieur)\, un spectre acariâtre (Madame) et un majordome peu banal : bienvenue dans l’antre du comte. Mélusine\, jeune sorcière espiègle\, devient leur bonne à tout faire.\nAvec son amie Cancrelune\, elles se pencheront sur les secrets d’un sort mystérieux\, subiront les foudres du professeur Haaselblatt et déjoueront les plans de cette peste de Vitrioline\, Sans oublier l’Abbé\, un peu trop passionné par le feu…
URL:https://fssta.ch/event/melusine-dans-la-vie-de-chateau/2025-04-10/
LOCATION:Auberge de la Gare\, Grolley\, Rte de la Gare 2\, Grolley\, 1772
CATEGORIES:Fribourg
ORGANIZER;CN="Th%C3%A9%C3%A2tre du P'tit Trac":MAILTO:fam_nein@bluewin.ch
END:VEVENT
END:VCALENDAR