BEGIN:VCALENDAR
VERSION:2.0
PRODID:-//FSSTA Fédération Suisse des Sociétés Théâtrales d&#039;Amateurs - ECPv6.15.20//NONSGML v1.0//EN
CALSCALE:GREGORIAN
METHOD:PUBLISH
X-ORIGINAL-URL:https://fssta.ch
X-WR-CALDESC:Évènements pour FSSTA Fédération Suisse des Sociétés Théâtrales d&#039;Amateurs
REFRESH-INTERVAL;VALUE=DURATION:PT1H
X-Robots-Tag:noindex
X-PUBLISHED-TTL:PT1H
BEGIN:VTIMEZONE
TZID:Europe/Zurich
BEGIN:DAYLIGHT
TZOFFSETFROM:+0100
TZOFFSETTO:+0200
TZNAME:CEST
DTSTART:20250330T010000
END:DAYLIGHT
BEGIN:STANDARD
TZOFFSETFROM:+0200
TZOFFSETTO:+0100
TZNAME:CET
DTSTART:20251026T010000
END:STANDARD
BEGIN:DAYLIGHT
TZOFFSETFROM:+0100
TZOFFSETTO:+0200
TZNAME:CEST
DTSTART:20260329T010000
END:DAYLIGHT
BEGIN:STANDARD
TZOFFSETFROM:+0200
TZOFFSETTO:+0100
TZNAME:CET
DTSTART:20261025T010000
END:STANDARD
BEGIN:DAYLIGHT
TZOFFSETFROM:+0100
TZOFFSETTO:+0200
TZNAME:CEST
DTSTART:20270328T010000
END:DAYLIGHT
BEGIN:STANDARD
TZOFFSETFROM:+0200
TZOFFSETTO:+0100
TZNAME:CET
DTSTART:20271031T010000
END:STANDARD
END:VTIMEZONE
BEGIN:VEVENT
DTSTART;TZID=Europe/Zurich:20260430T200000
DTEND;TZID=Europe/Zurich:20260430T213000
DTSTAMP:20260419T193111
CREATED:20260416T143453Z
LAST-MODIFIED:20260416T143453Z
UID:10006051-1777579200-1777584600@fssta.ch
SUMMARY:Tout est bien qui commence mal
DESCRIPTION:Vouloir adopter un enfant\, c’est déjà beaucoup de stress… rajouter un mari en retard\, une fuite d’eau et une assistante sociale vraiment très rigide\, rien ne va se passer comme prévu.\nUne comédie à l’adoption catastrophique ! \nBuvette et petite restauration 1h avant le spectacle. \nToutes les informations sur notre site web.
URL:https://fssta.ch/event/tout-est-bien-qui-commence-mal/2026-04-30/
LOCATION:Aula de l’école de Lully\, Route de Soral 152\, Lully / Bernex\, 1233
CATEGORIES:Genève
ATTACH;FMTTYPE=image/jpeg:https://fssta.ch/wp-content/uploads/2026/04/TEBQCM-26-Mosaique.jpg
ORGANIZER;CN="Ateliers-th%C3%A9%C3%A2tre Mosa%C3%AFque":MAILTO:info@mosaiquetheatre.ch
END:VEVENT
BEGIN:VEVENT
DTSTART;TZID=Europe/Zurich:20260501T200000
DTEND;TZID=Europe/Zurich:20260501T213000
DTSTAMP:20260419T193111
CREATED:20260416T143453Z
LAST-MODIFIED:20260416T143453Z
UID:10006052-1777665600-1777671000@fssta.ch
SUMMARY:Tout est bien qui commence mal
DESCRIPTION:Vouloir adopter un enfant\, c’est déjà beaucoup de stress… rajouter un mari en retard\, une fuite d’eau et une assistante sociale vraiment très rigide\, rien ne va se passer comme prévu.\nUne comédie à l’adoption catastrophique ! \nBuvette et petite restauration 1h avant le spectacle. \nToutes les informations sur notre site web.
URL:https://fssta.ch/event/tout-est-bien-qui-commence-mal/2026-05-01/
LOCATION:Aula de l’école de Lully\, Route de Soral 152\, Lully / Bernex\, 1233
CATEGORIES:Genève
ATTACH;FMTTYPE=image/jpeg:https://fssta.ch/wp-content/uploads/2026/04/TEBQCM-26-Mosaique.jpg
ORGANIZER;CN="Ateliers-th%C3%A9%C3%A2tre Mosa%C3%AFque":MAILTO:info@mosaiquetheatre.ch
END:VEVENT
BEGIN:VEVENT
DTSTART;TZID=Europe/Zurich:20260502T200000
DTEND;TZID=Europe/Zurich:20260502T213000
DTSTAMP:20260419T193111
CREATED:20260416T143453Z
LAST-MODIFIED:20260416T143453Z
UID:10006053-1777752000-1777757400@fssta.ch
SUMMARY:Tout est bien qui commence mal
DESCRIPTION:Vouloir adopter un enfant\, c’est déjà beaucoup de stress… rajouter un mari en retard\, une fuite d’eau et une assistante sociale vraiment très rigide\, rien ne va se passer comme prévu.\nUne comédie à l’adoption catastrophique ! \nBuvette et petite restauration 1h avant le spectacle. \nToutes les informations sur notre site web.
URL:https://fssta.ch/event/tout-est-bien-qui-commence-mal/2026-05-02/
LOCATION:Aula de l’école de Lully\, Route de Soral 152\, Lully / Bernex\, 1233
CATEGORIES:Genève
ATTACH;FMTTYPE=image/jpeg:https://fssta.ch/wp-content/uploads/2026/04/TEBQCM-26-Mosaique.jpg
ORGANIZER;CN="Ateliers-th%C3%A9%C3%A2tre Mosa%C3%AFque":MAILTO:info@mosaiquetheatre.ch
END:VEVENT
BEGIN:VEVENT
DTSTART;TZID=Europe/Zurich:20260503T170000
DTEND;TZID=Europe/Zurich:20260503T173000
DTSTAMP:20260419T193111
CREATED:20260416T143453Z
LAST-MODIFIED:20260416T143453Z
UID:10006054-1777827600-1777829400@fssta.ch
SUMMARY:Tout est bien qui commence mal
DESCRIPTION:Vouloir adopter un enfant\, c’est déjà beaucoup de stress… rajouter un mari en retard\, une fuite d’eau et une assistante sociale vraiment très rigide\, rien ne va se passer comme prévu.\nUne comédie à l’adoption catastrophique ! \nBuvette et petite restauration 1h avant le spectacle. \nToutes les informations sur notre site web.
URL:https://fssta.ch/event/tout-est-bien-qui-commence-mal/2026-05-03/
LOCATION:Aula de l’école de Lully\, Route de Soral 152\, Lully / Bernex\, 1233
CATEGORIES:Genève
ATTACH;FMTTYPE=image/jpeg:https://fssta.ch/wp-content/uploads/2026/04/TEBQCM-26-Mosaique.jpg
ORGANIZER;CN="Ateliers-th%C3%A9%C3%A2tre Mosa%C3%AFque":MAILTO:info@mosaiquetheatre.ch
END:VEVENT
BEGIN:VEVENT
DTSTART;TZID=Europe/Zurich:20260506T200000
DTEND;TZID=Europe/Zurich:20260506T213000
DTSTAMP:20260419T193111
CREATED:20260416T143453Z
LAST-MODIFIED:20260416T143453Z
UID:10006055-1778097600-1778103000@fssta.ch
SUMMARY:Tout est bien qui commence mal
DESCRIPTION:Vouloir adopter un enfant\, c’est déjà beaucoup de stress… rajouter un mari en retard\, une fuite d’eau et une assistante sociale vraiment très rigide\, rien ne va se passer comme prévu.\nUne comédie à l’adoption catastrophique ! \nBuvette et petite restauration 1h avant le spectacle. \nToutes les informations sur notre site web.
URL:https://fssta.ch/event/tout-est-bien-qui-commence-mal/2026-05-06/
LOCATION:Aula de l’école de Lully\, Route de Soral 152\, Lully / Bernex\, 1233
CATEGORIES:Genève
ATTACH;FMTTYPE=image/jpeg:https://fssta.ch/wp-content/uploads/2026/04/TEBQCM-26-Mosaique.jpg
ORGANIZER;CN="Ateliers-th%C3%A9%C3%A2tre Mosa%C3%AFque":MAILTO:info@mosaiquetheatre.ch
END:VEVENT
BEGIN:VEVENT
DTSTART;TZID=Europe/Zurich:20260507T200000
DTEND;TZID=Europe/Zurich:20260507T213000
DTSTAMP:20260419T193111
CREATED:20260416T143453Z
LAST-MODIFIED:20260416T143453Z
UID:10006056-1778184000-1778189400@fssta.ch
SUMMARY:Tout est bien qui commence mal
DESCRIPTION:Vouloir adopter un enfant\, c’est déjà beaucoup de stress… rajouter un mari en retard\, une fuite d’eau et une assistante sociale vraiment très rigide\, rien ne va se passer comme prévu.\nUne comédie à l’adoption catastrophique ! \nBuvette et petite restauration 1h avant le spectacle. \nToutes les informations sur notre site web.
URL:https://fssta.ch/event/tout-est-bien-qui-commence-mal/2026-05-07/
LOCATION:Aula de l’école de Lully\, Route de Soral 152\, Lully / Bernex\, 1233
CATEGORIES:Genève
ATTACH;FMTTYPE=image/jpeg:https://fssta.ch/wp-content/uploads/2026/04/TEBQCM-26-Mosaique.jpg
ORGANIZER;CN="Ateliers-th%C3%A9%C3%A2tre Mosa%C3%AFque":MAILTO:info@mosaiquetheatre.ch
END:VEVENT
BEGIN:VEVENT
DTSTART;TZID=Europe/Zurich:20260508T200000
DTEND;TZID=Europe/Zurich:20260508T213000
DTSTAMP:20260419T193111
CREATED:20260416T143453Z
LAST-MODIFIED:20260416T143453Z
UID:10006057-1778270400-1778275800@fssta.ch
SUMMARY:Tout est bien qui commence mal
DESCRIPTION:Vouloir adopter un enfant\, c’est déjà beaucoup de stress… rajouter un mari en retard\, une fuite d’eau et une assistante sociale vraiment très rigide\, rien ne va se passer comme prévu.\nUne comédie à l’adoption catastrophique ! \nBuvette et petite restauration 1h avant le spectacle. \nToutes les informations sur notre site web.
URL:https://fssta.ch/event/tout-est-bien-qui-commence-mal/2026-05-08/
LOCATION:Aula de l’école de Lully\, Route de Soral 152\, Lully / Bernex\, 1233
CATEGORIES:Genève
ATTACH;FMTTYPE=image/jpeg:https://fssta.ch/wp-content/uploads/2026/04/TEBQCM-26-Mosaique.jpg
ORGANIZER;CN="Ateliers-th%C3%A9%C3%A2tre Mosa%C3%AFque":MAILTO:info@mosaiquetheatre.ch
END:VEVENT
BEGIN:VEVENT
DTSTART;TZID=Europe/Zurich:20260509T200000
DTEND;TZID=Europe/Zurich:20260509T213000
DTSTAMP:20260419T193111
CREATED:20260416T143453Z
LAST-MODIFIED:20260416T143453Z
UID:10006058-1778356800-1778362200@fssta.ch
SUMMARY:Tout est bien qui commence mal
DESCRIPTION:Vouloir adopter un enfant\, c’est déjà beaucoup de stress… rajouter un mari en retard\, une fuite d’eau et une assistante sociale vraiment très rigide\, rien ne va se passer comme prévu.\nUne comédie à l’adoption catastrophique ! \nBuvette et petite restauration 1h avant le spectacle. \nToutes les informations sur notre site web.
URL:https://fssta.ch/event/tout-est-bien-qui-commence-mal/2026-05-09/
LOCATION:Aula de l’école de Lully\, Route de Soral 152\, Lully / Bernex\, 1233
CATEGORIES:Genève
ATTACH;FMTTYPE=image/jpeg:https://fssta.ch/wp-content/uploads/2026/04/TEBQCM-26-Mosaique.jpg
ORGANIZER;CN="Ateliers-th%C3%A9%C3%A2tre Mosa%C3%AFque":MAILTO:info@mosaiquetheatre.ch
END:VEVENT
BEGIN:VEVENT
DTSTART;TZID=Europe/Zurich:20260510T150000
DTEND;TZID=Europe/Zurich:20260510T163000
DTSTAMP:20260419T193111
CREATED:20260416T143453Z
LAST-MODIFIED:20260416T143453Z
UID:10006059-1778425200-1778430600@fssta.ch
SUMMARY:Tout est bien qui commence mal
DESCRIPTION:Vouloir adopter un enfant\, c’est déjà beaucoup de stress… rajouter un mari en retard\, une fuite d’eau et une assistante sociale vraiment très rigide\, rien ne va se passer comme prévu.\nUne comédie à l’adoption catastrophique ! \nBuvette et petite restauration 1h avant le spectacle. \nToutes les informations sur notre site web.
URL:https://fssta.ch/event/tout-est-bien-qui-commence-mal/2026-05-10/
LOCATION:Aula de l’école de Lully\, Route de Soral 152\, Lully / Bernex\, 1233
CATEGORIES:Genève
ATTACH;FMTTYPE=image/jpeg:https://fssta.ch/wp-content/uploads/2026/04/TEBQCM-26-Mosaique.jpg
ORGANIZER;CN="Ateliers-th%C3%A9%C3%A2tre Mosa%C3%AFque":MAILTO:info@mosaiquetheatre.ch
END:VEVENT
END:VCALENDAR