BEGIN:VCALENDAR
VERSION:2.0
PRODID:-//FSSTA Fédération Suisse des Sociétés Théâtrales d&#039;Amateurs - ECPv6.15.20//NONSGML v1.0//EN
CALSCALE:GREGORIAN
METHOD:PUBLISH
X-WR-CALNAME:FSSTA Fédération Suisse des Sociétés Théâtrales d&#039;Amateurs
X-ORIGINAL-URL:https://fssta.ch
X-WR-CALDESC:Évènements pour FSSTA Fédération Suisse des Sociétés Théâtrales d&#039;Amateurs
REFRESH-INTERVAL;VALUE=DURATION:PT1H
X-Robots-Tag:noindex
X-PUBLISHED-TTL:PT1H
BEGIN:VTIMEZONE
TZID:Europe/Zurich
BEGIN:DAYLIGHT
TZOFFSETFROM:+0100
TZOFFSETTO:+0200
TZNAME:CEST
DTSTART:20240331T010000
END:DAYLIGHT
BEGIN:STANDARD
TZOFFSETFROM:+0200
TZOFFSETTO:+0100
TZNAME:CET
DTSTART:20241027T010000
END:STANDARD
BEGIN:DAYLIGHT
TZOFFSETFROM:+0100
TZOFFSETTO:+0200
TZNAME:CEST
DTSTART:20250330T010000
END:DAYLIGHT
BEGIN:STANDARD
TZOFFSETFROM:+0200
TZOFFSETTO:+0100
TZNAME:CET
DTSTART:20251026T010000
END:STANDARD
BEGIN:DAYLIGHT
TZOFFSETFROM:+0100
TZOFFSETTO:+0200
TZNAME:CEST
DTSTART:20260329T010000
END:DAYLIGHT
BEGIN:STANDARD
TZOFFSETFROM:+0200
TZOFFSETTO:+0100
TZNAME:CET
DTSTART:20261025T010000
END:STANDARD
END:VTIMEZONE
BEGIN:VEVENT
DTSTART;TZID=Europe/Zurich:20250622T170000
DTEND;TZID=Europe/Zurich:20250622T190000
DTSTAMP:20260425T164139
CREATED:20250507T083955Z
LAST-MODIFIED:20250507T083955Z
UID:10005135-1750611600-1750618800@fssta.ch
SUMMARY:De Barbès au Base Bar
DESCRIPTION:Poèmes de bistroquets et rengaines de bastringue\nBienvenue au canet\, on vous attend au bar\, en décor naturel… s’il vous plaît ! Pour vous faire entendre les classiques du comptoir\, les oubliés du zinc\, Suzy Delair et Renaud\, Piaf et Delpech\, de Vian à Rwan\, de Gilles à Gainsbourg\, Frehel\, Pigalle et bien d’autres encore… il y aura du beau monde.\nCabaret sans musique\, chansons parlées\, une trentaine de textes qui nous disent le quotidien du café du coin\, les refrains en vogue de 1914 à 2014\, les derniers hits du JukeBox ou les rengaines réalistes des bistrots parisiens.\nDes textes qui prennent toute leur ampleur sans instruments\, sans orchestre\, tout nus\, portés seulement par le rythme du jeu et les voix d’une douzaine de comédiennes et comédiens.\nAllez\, on vous remet une tournée ! \nConception lumière : Lia Martinelli et Colin Jeanneret\nRégie : Sacha Arsenijevic
URL:https://fssta.ch/event/de-barbes-au-base-bar-2/2025-06-22/
LOCATION:Base Bar\, Avenue de Sévelin 46\, Lausanne\, 1004
CATEGORIES:Vaud
ORGANIZER;CN="Collectif %C3%94z":MAILTO:cozlausanne@gmail.com
END:VEVENT
BEGIN:VEVENT
DTSTART;TZID=Europe/Zurich:20250621T201500
DTEND;TZID=Europe/Zurich:20250621T220000
DTSTAMP:20260425T164139
CREATED:20250507T083955Z
LAST-MODIFIED:20250507T083955Z
UID:10005134-1750536900-1750543200@fssta.ch
SUMMARY:De Barbès au Base Bar
DESCRIPTION:Poèmes de bistroquets et rengaines de bastringue\nBienvenue au canet\, on vous attend au bar\, en décor naturel… s’il vous plaît ! Pour vous faire entendre les classiques du comptoir\, les oubliés du zinc\, Suzy Delair et Renaud\, Piaf et Delpech\, de Vian à Rwan\, de Gilles à Gainsbourg\, Frehel\, Pigalle et bien d’autres encore… il y aura du beau monde.\nCabaret sans musique\, chansons parlées\, une trentaine de textes qui nous disent le quotidien du café du coin\, les refrains en vogue de 1914 à 2014\, les derniers hits du JukeBox ou les rengaines réalistes des bistrots parisiens.\nDes textes qui prennent toute leur ampleur sans instruments\, sans orchestre\, tout nus\, portés seulement par le rythme du jeu et les voix d’une douzaine de comédiennes et comédiens.\nAllez\, on vous remet une tournée ! \nConception lumière : Lia Martinelli et Colin Jeanneret\nRégie : Sacha Arsenijevic
URL:https://fssta.ch/event/de-barbes-au-base-bar-2/2025-06-21/
LOCATION:Base Bar\, Avenue de Sévelin 46\, Lausanne\, 1004
CATEGORIES:Vaud
ORGANIZER;CN="Collectif %C3%94z":MAILTO:cozlausanne@gmail.com
END:VEVENT
BEGIN:VEVENT
DTSTART;TZID=Europe/Zurich:20250619T201500
DTEND;TZID=Europe/Zurich:20250619T220000
DTSTAMP:20260425T164139
CREATED:20250507T083955Z
LAST-MODIFIED:20250507T083955Z
UID:10005133-1750364100-1750370400@fssta.ch
SUMMARY:De Barbès au Base Bar
DESCRIPTION:Poèmes de bistroquets et rengaines de bastringue\nBienvenue au canet\, on vous attend au bar\, en décor naturel… s’il vous plaît ! Pour vous faire entendre les classiques du comptoir\, les oubliés du zinc\, Suzy Delair et Renaud\, Piaf et Delpech\, de Vian à Rwan\, de Gilles à Gainsbourg\, Frehel\, Pigalle et bien d’autres encore… il y aura du beau monde.\nCabaret sans musique\, chansons parlées\, une trentaine de textes qui nous disent le quotidien du café du coin\, les refrains en vogue de 1914 à 2014\, les derniers hits du JukeBox ou les rengaines réalistes des bistrots parisiens.\nDes textes qui prennent toute leur ampleur sans instruments\, sans orchestre\, tout nus\, portés seulement par le rythme du jeu et les voix d’une douzaine de comédiennes et comédiens.\nAllez\, on vous remet une tournée ! \nConception lumière : Lia Martinelli et Colin Jeanneret\nRégie : Sacha Arsenijevic
URL:https://fssta.ch/event/de-barbes-au-base-bar-2/2025-06-19/
LOCATION:Base Bar\, Avenue de Sévelin 46\, Lausanne\, 1004
CATEGORIES:Vaud
ORGANIZER;CN="Collectif %C3%94z":MAILTO:cozlausanne@gmail.com
END:VEVENT
BEGIN:VEVENT
DTSTART;TZID=Europe/Zurich:20250518T170000
DTEND;TZID=Europe/Zurich:20250518T190000
DTSTAMP:20260425T164139
CREATED:20250129T090023Z
LAST-MODIFIED:20250129T090023Z
UID:10004911-1747587600-1747594800@fssta.ch
SUMMARY:Le trésor de tante Agathe
DESCRIPTION:Pleine de rythme\, cette comédie en deux actes de Marie Laroche-Fermis nous présente une famille bourgeoise un chouia dysfonctionnelle dont le quotidien se trouve bouleversé par une annonce inattendue : leur défunte tante d’Amérique leur lègue un trésor… à la condition expresse\, insiste le notaire\, que les parents forment un couple uni et que les enfants soient mariés ! Comment s’en sortir avec un père coureur de jupons\, une ancienne maîtresse qui vient le faire chanter et des enfants incasables ? Surtout que la bonne a la langue bien pendue et son petit ami les oreilles qui traînent. Mais au fait\, c’est quoi le trésor de tante Agathe ?
URL:https://fssta.ch/event/le-tresor-de-tante-agathe-4/2025-05-18/
LOCATION:Théâtre de l’Odéon\, Villeneuve\, Grand Rue 43\, Villeneuve\, VD\, 1844\, Suisse
CATEGORIES:Vaud
ORGANIZER;CN="Les Snooks":MAILTO:e.lecoultre@snooks.ch
END:VEVENT
BEGIN:VEVENT
DTSTART;TZID=Europe/Zurich:20250517T190000
DTEND;TZID=Europe/Zurich:20250517T210000
DTSTAMP:20260425T164139
CREATED:20250129T090023Z
LAST-MODIFIED:20250129T090023Z
UID:10004910-1747508400-1747515600@fssta.ch
SUMMARY:Le trésor de tante Agathe
DESCRIPTION:Pleine de rythme\, cette comédie en deux actes de Marie Laroche-Fermis nous présente une famille bourgeoise un chouia dysfonctionnelle dont le quotidien se trouve bouleversé par une annonce inattendue : leur défunte tante d’Amérique leur lègue un trésor… à la condition expresse\, insiste le notaire\, que les parents forment un couple uni et que les enfants soient mariés ! Comment s’en sortir avec un père coureur de jupons\, une ancienne maîtresse qui vient le faire chanter et des enfants incasables ? Surtout que la bonne a la langue bien pendue et son petit ami les oreilles qui traînent. Mais au fait\, c’est quoi le trésor de tante Agathe ?
URL:https://fssta.ch/event/le-tresor-de-tante-agathe-4/2025-05-17/
LOCATION:Théâtre de l’Odéon\, Villeneuve\, Grand Rue 43\, Villeneuve\, VD\, 1844\, Suisse
CATEGORIES:Vaud
ORGANIZER;CN="Les Snooks":MAILTO:e.lecoultre@snooks.ch
END:VEVENT
BEGIN:VEVENT
DTSTART;TZID=Europe/Zurich:20250516T200000
DTEND;TZID=Europe/Zurich:20250516T220000
DTSTAMP:20260425T164139
CREATED:20250129T090023Z
LAST-MODIFIED:20250129T090023Z
UID:10004909-1747425600-1747432800@fssta.ch
SUMMARY:Le trésor de tante Agathe
DESCRIPTION:Pleine de rythme\, cette comédie en deux actes de Marie Laroche-Fermis nous présente une famille bourgeoise un chouia dysfonctionnelle dont le quotidien se trouve bouleversé par une annonce inattendue : leur défunte tante d’Amérique leur lègue un trésor… à la condition expresse\, insiste le notaire\, que les parents forment un couple uni et que les enfants soient mariés ! Comment s’en sortir avec un père coureur de jupons\, une ancienne maîtresse qui vient le faire chanter et des enfants incasables ? Surtout que la bonne a la langue bien pendue et son petit ami les oreilles qui traînent. Mais au fait\, c’est quoi le trésor de tante Agathe ?
URL:https://fssta.ch/event/le-tresor-de-tante-agathe-4/2025-05-16/
LOCATION:Théâtre de l’Odéon\, Villeneuve\, Grand Rue 43\, Villeneuve\, VD\, 1844\, Suisse
CATEGORIES:Vaud
ORGANIZER;CN="Les Snooks":MAILTO:e.lecoultre@snooks.ch
END:VEVENT
BEGIN:VEVENT
DTSTART;TZID=Europe/Zurich:20250511T170000
DTEND;TZID=Europe/Zurich:20250511T190000
DTSTAMP:20260425T164139
CREATED:20250129T085830Z
LAST-MODIFIED:20250129T085830Z
UID:10004906-1746982800-1746990000@fssta.ch
SUMMARY:Le trésor de tante Agathe
DESCRIPTION:Pleine de rythme\, cette comédie en deux actes de Marie Laroche-Fermis nous présente une famille bourgeoise un chouia dysfonctionnelle dont le quotidien se trouve bouleversé par une annonce inattendue : leur défunte tante d’Amérique leur lègue un trésor… à la condition expresse\, insiste le notaire\, que les parents forment un couple uni et que les enfants soient mariés ! Comment s’en sortir avec un père coureur de jupons\, une ancienne maîtresse qui vient le faire chanter et des enfants incasables ? Surtout que la bonne a la langue bien pendue et son petit ami les oreilles qui traînent. Mais au fait\, c’est quoi le trésor de tante Agathe ?
URL:https://fssta.ch/event/le-tresor-de-tante-agathe-3/2025-05-11/
LOCATION:L’Oxymore\, Chemin de Versailles\, 14\, Cully\, 1096
CATEGORIES:Vaud
ORGANIZER;CN="Les Snooks":MAILTO:e.lecoultre@snooks.ch
END:VEVENT
BEGIN:VEVENT
DTSTART;TZID=Europe/Zurich:20250510T200000
DTEND;TZID=Europe/Zurich:20250510T220000
DTSTAMP:20260425T164139
CREATED:20250129T085830Z
LAST-MODIFIED:20250129T085830Z
UID:10004905-1746907200-1746914400@fssta.ch
SUMMARY:Le trésor de tante Agathe
DESCRIPTION:Pleine de rythme\, cette comédie en deux actes de Marie Laroche-Fermis nous présente une famille bourgeoise un chouia dysfonctionnelle dont le quotidien se trouve bouleversé par une annonce inattendue : leur défunte tante d’Amérique leur lègue un trésor… à la condition expresse\, insiste le notaire\, que les parents forment un couple uni et que les enfants soient mariés ! Comment s’en sortir avec un père coureur de jupons\, une ancienne maîtresse qui vient le faire chanter et des enfants incasables ? Surtout que la bonne a la langue bien pendue et son petit ami les oreilles qui traînent. Mais au fait\, c’est quoi le trésor de tante Agathe ?
URL:https://fssta.ch/event/le-tresor-de-tante-agathe-3/2025-05-10/
LOCATION:L’Oxymore\, Chemin de Versailles\, 14\, Cully\, 1096
CATEGORIES:Vaud
ORGANIZER;CN="Les Snooks":MAILTO:e.lecoultre@snooks.ch
END:VEVENT
BEGIN:VEVENT
DTSTART;TZID=Europe/Zurich:20250509T200000
DTEND;TZID=Europe/Zurich:20250509T220000
DTSTAMP:20260425T164139
CREATED:20250129T085830Z
LAST-MODIFIED:20250129T085830Z
UID:10004904-1746820800-1746828000@fssta.ch
SUMMARY:Le trésor de tante Agathe
DESCRIPTION:Pleine de rythme\, cette comédie en deux actes de Marie Laroche-Fermis nous présente une famille bourgeoise un chouia dysfonctionnelle dont le quotidien se trouve bouleversé par une annonce inattendue : leur défunte tante d’Amérique leur lègue un trésor… à la condition expresse\, insiste le notaire\, que les parents forment un couple uni et que les enfants soient mariés ! Comment s’en sortir avec un père coureur de jupons\, une ancienne maîtresse qui vient le faire chanter et des enfants incasables ? Surtout que la bonne a la langue bien pendue et son petit ami les oreilles qui traînent. Mais au fait\, c’est quoi le trésor de tante Agathe ?
URL:https://fssta.ch/event/le-tresor-de-tante-agathe-3/2025-05-09/
LOCATION:L’Oxymore\, Chemin de Versailles\, 14\, Cully\, 1096
CATEGORIES:Vaud
ORGANIZER;CN="Les Snooks":MAILTO:e.lecoultre@snooks.ch
END:VEVENT
BEGIN:VEVENT
DTSTART;TZID=Europe/Zurich:20250503T200000
DTEND;TZID=Europe/Zurich:20250503T220000
DTSTAMP:20260425T164139
CREATED:20250128T172815Z
LAST-MODIFIED:20250129T085533Z
UID:10004901-1746302400-1746309600@fssta.ch
SUMMARY:Le trésor de tante Agathe
DESCRIPTION:Pleine de rythme\, cette comédie en deux actes de Marie Laroche-Fermis nous présente une famille bourgeoise un chouia dysfonctionnelle dont le quotidien se trouve bouleversé par une annonce inattendue : leur défunte tante d’Amérique leur lègue un trésor… à la condition expresse\, insiste le notaire\, que les parents forment un couple uni et que les enfants soient mariés ! Comment s’en sortir avec un père coureur de jupons\, une ancienne maîtresse qui vient le faire chanter et des enfants incasables ? Surtout que la bonne a la langue bien pendue et son petit ami les oreilles qui traînent. Mais au fait\, c’est quoi le trésor de tante Agathe ?
URL:https://fssta.ch/event/le-tresor-de-tante-agathe-2/2025-05-03/
LOCATION:St-Légier – Grande salle\, St-Légier\, Suisse
CATEGORIES:Vaud
ORGANIZER;CN="Les Snooks":MAILTO:e.lecoultre@snooks.ch
END:VEVENT
BEGIN:VEVENT
DTSTART;TZID=Europe/Zurich:20250502T200000
DTEND;TZID=Europe/Zurich:20250502T220000
DTSTAMP:20260425T164139
CREATED:20250128T172815Z
LAST-MODIFIED:20250129T085533Z
UID:10004900-1746216000-1746223200@fssta.ch
SUMMARY:Le trésor de tante Agathe
DESCRIPTION:Pleine de rythme\, cette comédie en deux actes de Marie Laroche-Fermis nous présente une famille bourgeoise un chouia dysfonctionnelle dont le quotidien se trouve bouleversé par une annonce inattendue : leur défunte tante d’Amérique leur lègue un trésor… à la condition expresse\, insiste le notaire\, que les parents forment un couple uni et que les enfants soient mariés ! Comment s’en sortir avec un père coureur de jupons\, une ancienne maîtresse qui vient le faire chanter et des enfants incasables ? Surtout que la bonne a la langue bien pendue et son petit ami les oreilles qui traînent. Mais au fait\, c’est quoi le trésor de tante Agathe ?
URL:https://fssta.ch/event/le-tresor-de-tante-agathe-2/2025-05-02/
LOCATION:St-Légier – Grande salle\, St-Légier\, Suisse
CATEGORIES:Vaud
ORGANIZER;CN="Les Snooks":MAILTO:e.lecoultre@snooks.ch
END:VEVENT
END:VCALENDAR