BEGIN:VCALENDAR
VERSION:2.0
PRODID:-//FSSTA Fédération Suisse des Sociétés Théâtrales d&#039;Amateurs - ECPv6.15.20//NONSGML v1.0//EN
CALSCALE:GREGORIAN
METHOD:PUBLISH
X-WR-CALNAME:FSSTA Fédération Suisse des Sociétés Théâtrales d&#039;Amateurs
X-ORIGINAL-URL:https://fssta.ch
X-WR-CALDESC:Évènements pour FSSTA Fédération Suisse des Sociétés Théâtrales d&#039;Amateurs
REFRESH-INTERVAL;VALUE=DURATION:PT1H
X-Robots-Tag:noindex
X-PUBLISHED-TTL:PT1H
BEGIN:VTIMEZONE
TZID:Europe/Zurich
BEGIN:DAYLIGHT
TZOFFSETFROM:+0100
TZOFFSETTO:+0200
TZNAME:CEST
DTSTART:20250330T010000
END:DAYLIGHT
BEGIN:STANDARD
TZOFFSETFROM:+0200
TZOFFSETTO:+0100
TZNAME:CET
DTSTART:20251026T010000
END:STANDARD
BEGIN:DAYLIGHT
TZOFFSETFROM:+0100
TZOFFSETTO:+0200
TZNAME:CEST
DTSTART:20260329T010000
END:DAYLIGHT
BEGIN:STANDARD
TZOFFSETFROM:+0200
TZOFFSETTO:+0100
TZNAME:CET
DTSTART:20261025T010000
END:STANDARD
BEGIN:DAYLIGHT
TZOFFSETFROM:+0100
TZOFFSETTO:+0200
TZNAME:CEST
DTSTART:20270328T010000
END:DAYLIGHT
BEGIN:STANDARD
TZOFFSETFROM:+0200
TZOFFSETTO:+0100
TZNAME:CET
DTSTART:20271031T010000
END:STANDARD
END:VTIMEZONE
BEGIN:VEVENT
DTSTART;TZID=Europe/Zurich:20260507T200000
DTEND;TZID=Europe/Zurich:20260507T220000
DTSTAMP:20260421T234039
CREATED:20260401T175750Z
LAST-MODIFIED:20260401T180517Z
UID:10006002-1778184000-1778191200@fssta.ch
SUMMARY:L’Huître\, Je te quitte\, Moi non plus !
DESCRIPTION:Bernard\, aussi réservé qu’une huître et terriblement jaloux\, doute des sentiments que lui porte son épouse\, Viviane. Pour s’assurer de son amour\, il imagine un plan audacieux : provoquer sa jalousie en demandant à Cindy\, une jeune comédienne un peu naïve\, de se faire passer pour sa maîtresse. Mais ce stratagème\, censé être simple\, marque le début d’une série de quiproquos où chacun tente de reprendre le contrôle d’une situation qui lui échappe de plus en plus. \nComédie en 4 actes à la fois vivifiante et drôle. Une pièce de boulevard moderne alternant franche hilarité et émotions subtiles.
URL:https://fssta.ch/event/lhuitre-je-te-quitte-moi-non-plus/2026-05-07/
LOCATION:Salle Arthur Parchet à Vouvry\, Grand Rue 25\, Vouvry\, 1896
CATEGORIES:Valais
ATTACH;FMTTYPE=image/jpeg:https://fssta.ch/wp-content/uploads/2026/04/IMG_0306-1.jpeg
ORGANIZER;CN="Nos Loisirs":MAILTO:natacha.lattion@bluewin.ch
END:VEVENT
BEGIN:VEVENT
DTSTART;TZID=Europe/Zurich:20260508T200000
DTEND;TZID=Europe/Zurich:20260508T220000
DTSTAMP:20260421T234039
CREATED:20260307T171341Z
LAST-MODIFIED:20260311T152408Z
UID:10005944-1778270400-1778277600@fssta.ch
SUMMARY:Un dîner presque imparfait
DESCRIPTION:Pas facile de recruter dans un restaurant gastronomique. Alors\, quand une opportunité s’offre à lui\, le maître d’hôtel décide de tenter l’aventure\, malgré ses réticences. Mais celui-ci va vite déchanter face aux nombreuses maladresses de ce commis\, tombé du ciel. Et ce n’est pas Mademoiselle CHANTEFOIN\, héritière de bonne famille à cheval sur les principes et les règles de politesse\, qui dira le contraire… Son médecin particulier tente bien de rattraper les situations délicates sans grand succès. Entre une patte de homard qui résiste un peu trop\, une sauce qui ne veut pas couler là où elle devrait et un dessert qui va un peu trop réchauffer Mademoiselle CHANTEFOIN\, le maître d’hôtel ne sera pas au bout de ses surprises pour ce dîner un peu surréaliste. \nChaque week-end un humoriste différent en deuxième partie.
URL:https://fssta.ch/event/un-diner-presque-imparfait/2026-05-08/
LOCATION:Salle de jeunesse de Sarreyer\, Rte de la Croix 24\, Sarreyer\, 1948
CATEGORIES:Valais
ATTACH;FMTTYPE=image/jpeg:https://fssta.ch/wp-content/uploads/2026/03/Flyer_un-diner-presque-imparfait-A5.jpg
ORGANIZER;CN="Groupe Th%C3%A9%C3%A2tral Le Moulin":MAILTO:jmmay@netplus.ch
END:VEVENT
BEGIN:VEVENT
DTSTART;TZID=Europe/Zurich:20260508T200000
DTEND;TZID=Europe/Zurich:20260508T220000
DTSTAMP:20260421T234039
CREATED:20260401T175750Z
LAST-MODIFIED:20260401T180517Z
UID:10006003-1778270400-1778277600@fssta.ch
SUMMARY:L’Huître\, Je te quitte\, Moi non plus !
DESCRIPTION:Bernard\, aussi réservé qu’une huître et terriblement jaloux\, doute des sentiments que lui porte son épouse\, Viviane. Pour s’assurer de son amour\, il imagine un plan audacieux : provoquer sa jalousie en demandant à Cindy\, une jeune comédienne un peu naïve\, de se faire passer pour sa maîtresse. Mais ce stratagème\, censé être simple\, marque le début d’une série de quiproquos où chacun tente de reprendre le contrôle d’une situation qui lui échappe de plus en plus. \nComédie en 4 actes à la fois vivifiante et drôle. Une pièce de boulevard moderne alternant franche hilarité et émotions subtiles.
URL:https://fssta.ch/event/lhuitre-je-te-quitte-moi-non-plus/2026-05-08/
LOCATION:Salle Arthur Parchet à Vouvry\, Grand Rue 25\, Vouvry\, 1896
CATEGORIES:Valais
ATTACH;FMTTYPE=image/jpeg:https://fssta.ch/wp-content/uploads/2026/04/IMG_0306-1.jpeg
ORGANIZER;CN="Nos Loisirs":MAILTO:natacha.lattion@bluewin.ch
END:VEVENT
BEGIN:VEVENT
DTSTART;TZID=Europe/Zurich:20260509T200000
DTEND;TZID=Europe/Zurich:20260509T220000
DTSTAMP:20260421T234039
CREATED:20260307T171341Z
LAST-MODIFIED:20260311T152408Z
UID:10005945-1778356800-1778364000@fssta.ch
SUMMARY:Un dîner presque imparfait
DESCRIPTION:Pas facile de recruter dans un restaurant gastronomique. Alors\, quand une opportunité s’offre à lui\, le maître d’hôtel décide de tenter l’aventure\, malgré ses réticences. Mais celui-ci va vite déchanter face aux nombreuses maladresses de ce commis\, tombé du ciel. Et ce n’est pas Mademoiselle CHANTEFOIN\, héritière de bonne famille à cheval sur les principes et les règles de politesse\, qui dira le contraire… Son médecin particulier tente bien de rattraper les situations délicates sans grand succès. Entre une patte de homard qui résiste un peu trop\, une sauce qui ne veut pas couler là où elle devrait et un dessert qui va un peu trop réchauffer Mademoiselle CHANTEFOIN\, le maître d’hôtel ne sera pas au bout de ses surprises pour ce dîner un peu surréaliste. \nChaque week-end un humoriste différent en deuxième partie.
URL:https://fssta.ch/event/un-diner-presque-imparfait/2026-05-09/
LOCATION:Salle de jeunesse de Sarreyer\, Rte de la Croix 24\, Sarreyer\, 1948
CATEGORIES:Valais
ATTACH;FMTTYPE=image/jpeg:https://fssta.ch/wp-content/uploads/2026/03/Flyer_un-diner-presque-imparfait-A5.jpg
ORGANIZER;CN="Groupe Th%C3%A9%C3%A2tral Le Moulin":MAILTO:jmmay@netplus.ch
END:VEVENT
BEGIN:VEVENT
DTSTART;TZID=Europe/Zurich:20260509T200000
DTEND;TZID=Europe/Zurich:20260509T220000
DTSTAMP:20260421T234039
CREATED:20260401T175750Z
LAST-MODIFIED:20260401T180517Z
UID:10006004-1778356800-1778364000@fssta.ch
SUMMARY:L’Huître\, Je te quitte\, Moi non plus !
DESCRIPTION:Bernard\, aussi réservé qu’une huître et terriblement jaloux\, doute des sentiments que lui porte son épouse\, Viviane. Pour s’assurer de son amour\, il imagine un plan audacieux : provoquer sa jalousie en demandant à Cindy\, une jeune comédienne un peu naïve\, de se faire passer pour sa maîtresse. Mais ce stratagème\, censé être simple\, marque le début d’une série de quiproquos où chacun tente de reprendre le contrôle d’une situation qui lui échappe de plus en plus. \nComédie en 4 actes à la fois vivifiante et drôle. Une pièce de boulevard moderne alternant franche hilarité et émotions subtiles.
URL:https://fssta.ch/event/lhuitre-je-te-quitte-moi-non-plus/2026-05-09/
LOCATION:Salle Arthur Parchet à Vouvry\, Grand Rue 25\, Vouvry\, 1896
CATEGORIES:Valais
ATTACH;FMTTYPE=image/jpeg:https://fssta.ch/wp-content/uploads/2026/04/IMG_0306-1.jpeg
ORGANIZER;CN="Nos Loisirs":MAILTO:natacha.lattion@bluewin.ch
END:VEVENT
BEGIN:VEVENT
DTSTART;TZID=Europe/Zurich:20260510T170000
DTEND;TZID=Europe/Zurich:20260510T190000
DTSTAMP:20260421T234039
CREATED:20260307T171341Z
LAST-MODIFIED:20260311T152408Z
UID:10005946-1778432400-1778439600@fssta.ch
SUMMARY:Un dîner presque imparfait
DESCRIPTION:Pas facile de recruter dans un restaurant gastronomique. Alors\, quand une opportunité s’offre à lui\, le maître d’hôtel décide de tenter l’aventure\, malgré ses réticences. Mais celui-ci va vite déchanter face aux nombreuses maladresses de ce commis\, tombé du ciel. Et ce n’est pas Mademoiselle CHANTEFOIN\, héritière de bonne famille à cheval sur les principes et les règles de politesse\, qui dira le contraire… Son médecin particulier tente bien de rattraper les situations délicates sans grand succès. Entre une patte de homard qui résiste un peu trop\, une sauce qui ne veut pas couler là où elle devrait et un dessert qui va un peu trop réchauffer Mademoiselle CHANTEFOIN\, le maître d’hôtel ne sera pas au bout de ses surprises pour ce dîner un peu surréaliste. \nChaque week-end un humoriste différent en deuxième partie.
URL:https://fssta.ch/event/un-diner-presque-imparfait/2026-05-10/
LOCATION:Salle de jeunesse de Sarreyer\, Rte de la Croix 24\, Sarreyer\, 1948
CATEGORIES:Valais
ATTACH;FMTTYPE=image/jpeg:https://fssta.ch/wp-content/uploads/2026/03/Flyer_un-diner-presque-imparfait-A5.jpg
ORGANIZER;CN="Groupe Th%C3%A9%C3%A2tral Le Moulin":MAILTO:jmmay@netplus.ch
END:VEVENT
BEGIN:VEVENT
DTSTART;TZID=Europe/Zurich:20260510T170000
DTEND;TZID=Europe/Zurich:20260510T190000
DTSTAMP:20260421T234039
CREATED:20260401T175750Z
LAST-MODIFIED:20260401T180517Z
UID:10006005-1778432400-1778439600@fssta.ch
SUMMARY:L’Huître\, Je te quitte\, Moi non plus !
DESCRIPTION:Bernard\, aussi réservé qu’une huître et terriblement jaloux\, doute des sentiments que lui porte son épouse\, Viviane. Pour s’assurer de son amour\, il imagine un plan audacieux : provoquer sa jalousie en demandant à Cindy\, une jeune comédienne un peu naïve\, de se faire passer pour sa maîtresse. Mais ce stratagème\, censé être simple\, marque le début d’une série de quiproquos où chacun tente de reprendre le contrôle d’une situation qui lui échappe de plus en plus. \nComédie en 4 actes à la fois vivifiante et drôle. Une pièce de boulevard moderne alternant franche hilarité et émotions subtiles.
URL:https://fssta.ch/event/lhuitre-je-te-quitte-moi-non-plus/2026-05-10/
LOCATION:Salle Arthur Parchet à Vouvry\, Grand Rue 25\, Vouvry\, 1896
CATEGORIES:Valais
ATTACH;FMTTYPE=image/jpeg:https://fssta.ch/wp-content/uploads/2026/04/IMG_0306-1.jpeg
ORGANIZER;CN="Nos Loisirs":MAILTO:natacha.lattion@bluewin.ch
END:VEVENT
END:VCALENDAR