BEGIN:VCALENDAR
VERSION:2.0
PRODID:-//FSSTA Fédération Suisse des Sociétés Théâtrales d&#039;Amateurs - ECPv6.15.20//NONSGML v1.0//EN
CALSCALE:GREGORIAN
METHOD:PUBLISH
X-WR-CALNAME:FSSTA Fédération Suisse des Sociétés Théâtrales d&#039;Amateurs
X-ORIGINAL-URL:https://fssta.ch
X-WR-CALDESC:Évènements pour FSSTA Fédération Suisse des Sociétés Théâtrales d&#039;Amateurs
REFRESH-INTERVAL;VALUE=DURATION:PT1H
X-Robots-Tag:noindex
X-PUBLISHED-TTL:PT1H
BEGIN:VTIMEZONE
TZID:Europe/Zurich
BEGIN:DAYLIGHT
TZOFFSETFROM:+0100
TZOFFSETTO:+0200
TZNAME:CEST
DTSTART:20240331T010000
END:DAYLIGHT
BEGIN:STANDARD
TZOFFSETFROM:+0200
TZOFFSETTO:+0100
TZNAME:CET
DTSTART:20241027T010000
END:STANDARD
BEGIN:DAYLIGHT
TZOFFSETFROM:+0100
TZOFFSETTO:+0200
TZNAME:CEST
DTSTART:20250330T010000
END:DAYLIGHT
BEGIN:STANDARD
TZOFFSETFROM:+0200
TZOFFSETTO:+0100
TZNAME:CET
DTSTART:20251026T010000
END:STANDARD
BEGIN:DAYLIGHT
TZOFFSETFROM:+0100
TZOFFSETTO:+0200
TZNAME:CEST
DTSTART:20260329T010000
END:DAYLIGHT
BEGIN:STANDARD
TZOFFSETFROM:+0200
TZOFFSETTO:+0100
TZNAME:CET
DTSTART:20261025T010000
END:STANDARD
END:VTIMEZONE
BEGIN:VEVENT
DTSTART;TZID=Europe/Zurich:20250425T203000
DTEND;TZID=Europe/Zurich:20250425T223000
DTSTAMP:20260422T003954
CREATED:20250209T091715Z
LAST-MODIFIED:20250209T091715Z
UID:10004960-1745613000-1745620200@fssta.ch
SUMMARY:Un temps de chien
DESCRIPTION:Hélène est une femme d’affaire débordée par son travail et sa famille.\nLoulou est mère célibataire et travaille dans un magasin de lingerie.\nGabrielle est très seule et un peu paumée. \nUn matin de septembre\, ces trois femmes que rien ne destinait à se rencontrer se retrouvent dans l’arrière-salle d’un bistrot parisien… pour ne se quitter que le lendemain. \nUn burn-out et une tempête de neige plus tard\, la vie semble avoir pris un tout autre cours…
URL:https://fssta.ch/event/un-temps-de-chien-4/2025-04-25/
LOCATION:Café-Théâtre de la Tour de Rive\, La Neuveville\, Place de la Liberté\, La Neuveville\, 2520
CATEGORIES:Berne
ORGANIZER;CN="En apART%C3%A9":MAILTO:troupeenaparte@outlook.com
END:VEVENT
BEGIN:VEVENT
DTSTART;TZID=Europe/Zurich:20250426T203000
DTEND;TZID=Europe/Zurich:20250426T223000
DTSTAMP:20260422T003954
CREATED:20250209T091715Z
LAST-MODIFIED:20250209T091715Z
UID:10004961-1745699400-1745706600@fssta.ch
SUMMARY:Un temps de chien
DESCRIPTION:Hélène est une femme d’affaire débordée par son travail et sa famille.\nLoulou est mère célibataire et travaille dans un magasin de lingerie.\nGabrielle est très seule et un peu paumée. \nUn matin de septembre\, ces trois femmes que rien ne destinait à se rencontrer se retrouvent dans l’arrière-salle d’un bistrot parisien… pour ne se quitter que le lendemain. \nUn burn-out et une tempête de neige plus tard\, la vie semble avoir pris un tout autre cours…
URL:https://fssta.ch/event/un-temps-de-chien-4/2025-04-26/
LOCATION:Café-Théâtre de la Tour de Rive\, La Neuveville\, Place de la Liberté\, La Neuveville\, 2520
CATEGORIES:Berne
ORGANIZER;CN="En apART%C3%A9":MAILTO:troupeenaparte@outlook.com
END:VEVENT
BEGIN:VEVENT
DTSTART;TZID=Europe/Zurich:20250427T170000
DTEND;TZID=Europe/Zurich:20250427T190000
DTSTAMP:20260422T003954
CREATED:20250209T091715Z
LAST-MODIFIED:20250209T091715Z
UID:10004962-1745773200-1745780400@fssta.ch
SUMMARY:Un temps de chien
DESCRIPTION:Hélène est une femme d’affaire débordée par son travail et sa famille.\nLoulou est mère célibataire et travaille dans un magasin de lingerie.\nGabrielle est très seule et un peu paumée. \nUn matin de septembre\, ces trois femmes que rien ne destinait à se rencontrer se retrouvent dans l’arrière-salle d’un bistrot parisien… pour ne se quitter que le lendemain. \nUn burn-out et une tempête de neige plus tard\, la vie semble avoir pris un tout autre cours…
URL:https://fssta.ch/event/un-temps-de-chien-4/2025-04-27/
LOCATION:Café-Théâtre de la Tour de Rive\, La Neuveville\, Place de la Liberté\, La Neuveville\, 2520
CATEGORIES:Berne
ORGANIZER;CN="En apART%C3%A9":MAILTO:troupeenaparte@outlook.com
END:VEVENT
END:VCALENDAR